BEGIN:VCALENDAR
VERSION:2.0
PRODID:-//Eagle Ridge Golf Club - ECPv6.15.18//NONSGML v1.0//EN
CALSCALE:GREGORIAN
METHOD:PUBLISH
X-WR-CALNAME:Eagle Ridge Golf Club
X-ORIGINAL-URL:https://www.eagleridgegolfnc.com
X-WR-CALDESC:Events for Eagle Ridge Golf Club
REFRESH-INTERVAL;VALUE=DURATION:PT1H
X-Robots-Tag:noindex
X-PUBLISHED-TTL:PT1H
BEGIN:VTIMEZONE
TZID:UTC
BEGIN:STANDARD
TZOFFSETFROM:+0000
TZOFFSETTO:+0000
TZNAME:UTC
DTSTART:20260101T000000
END:STANDARD
END:VTIMEZONE
BEGIN:VTIMEZONE
TZID:America/New_York
BEGIN:DAYLIGHT
TZOFFSETFROM:-0500
TZOFFSETTO:-0400
TZNAME:EDT
DTSTART:20260308T070000
END:DAYLIGHT
BEGIN:STANDARD
TZOFFSETFROM:-0400
TZOFFSETTO:-0500
TZNAME:EST
DTSTART:20261101T060000
END:STANDARD
BEGIN:DAYLIGHT
TZOFFSETFROM:-0500
TZOFFSETTO:-0400
TZNAME:EDT
DTSTART:20270314T070000
END:DAYLIGHT
BEGIN:STANDARD
TZOFFSETFROM:-0400
TZOFFSETTO:-0500
TZNAME:EST
DTSTART:20271107T060000
END:STANDARD
BEGIN:DAYLIGHT
TZOFFSETFROM:-0500
TZOFFSETTO:-0400
TZNAME:EDT
DTSTART:20280312T070000
END:DAYLIGHT
BEGIN:STANDARD
TZOFFSETFROM:-0400
TZOFFSETTO:-0500
TZNAME:EST
DTSTART:20281105T060000
END:STANDARD
END:VTIMEZONE
BEGIN:VEVENT
DTSTART;VALUE=DATE:20270104
DTEND;VALUE=DATE:20270105
DTSTAMP:20260425T081931
CREATED:20250529T222619Z
LAST-MODIFIED:20250529T222656Z
UID:10000096-1799020800-1799107199@www.eagleridgegolfnc.com
SUMMARY:Member Monday
DESCRIPTION:
URL:https://www.eagleridgegolfnc.com/event/member-monday-3/2027-01-04/
END:VEVENT
BEGIN:VEVENT
DTSTART;TZID=America/New_York:20270107T171500
DTEND;TZID=America/New_York:20270107T190000
DTSTAMP:20260425T081931
CREATED:20260422T181413Z
LAST-MODIFIED:20260422T181432Z
UID:10000328-1799342100-1799348400@www.eagleridgegolfnc.com
SUMMARY:John Deere League
DESCRIPTION:
URL:https://www.eagleridgegolfnc.com/event/john-deere-league/2027-01-07/
END:VEVENT
BEGIN:VEVENT
DTSTART;VALUE=DATE:20270111
DTEND;VALUE=DATE:20270112
DTSTAMP:20260425T081931
CREATED:20250529T222619Z
LAST-MODIFIED:20250529T222656Z
UID:10000097-1799625600-1799711999@www.eagleridgegolfnc.com
SUMMARY:Member Monday
DESCRIPTION:
URL:https://www.eagleridgegolfnc.com/event/member-monday-3/2027-01-11/
END:VEVENT
BEGIN:VEVENT
DTSTART;TZID=America/New_York:20270114T171500
DTEND;TZID=America/New_York:20270114T190000
DTSTAMP:20260425T081931
CREATED:20260422T181413Z
LAST-MODIFIED:20260422T181432Z
UID:10000329-1799946900-1799953200@www.eagleridgegolfnc.com
SUMMARY:John Deere League
DESCRIPTION:
URL:https://www.eagleridgegolfnc.com/event/john-deere-league/2027-01-14/
END:VEVENT
BEGIN:VEVENT
DTSTART;VALUE=DATE:20270118
DTEND;VALUE=DATE:20270119
DTSTAMP:20260425T081931
CREATED:20250529T222619Z
LAST-MODIFIED:20250529T222656Z
UID:10000098-1800230400-1800316799@www.eagleridgegolfnc.com
SUMMARY:Member Monday
DESCRIPTION:
URL:https://www.eagleridgegolfnc.com/event/member-monday-3/2027-01-18/
END:VEVENT
BEGIN:VEVENT
DTSTART;TZID=America/New_York:20270121T171500
DTEND;TZID=America/New_York:20270121T190000
DTSTAMP:20260425T081931
CREATED:20260422T181413Z
LAST-MODIFIED:20260422T181432Z
UID:10000330-1800551700-1800558000@www.eagleridgegolfnc.com
SUMMARY:John Deere League
DESCRIPTION:
URL:https://www.eagleridgegolfnc.com/event/john-deere-league/2027-01-21/
END:VEVENT
BEGIN:VEVENT
DTSTART;VALUE=DATE:20270125
DTEND;VALUE=DATE:20270126
DTSTAMP:20260425T081931
CREATED:20250529T222619Z
LAST-MODIFIED:20250529T222656Z
UID:10000099-1800835200-1800921599@www.eagleridgegolfnc.com
SUMMARY:Member Monday
DESCRIPTION:
URL:https://www.eagleridgegolfnc.com/event/member-monday-3/2027-01-25/
END:VEVENT
BEGIN:VEVENT
DTSTART;TZID=America/New_York:20270128T171500
DTEND;TZID=America/New_York:20270128T190000
DTSTAMP:20260425T081931
CREATED:20260422T181413Z
LAST-MODIFIED:20260422T181432Z
UID:10000331-1801156500-1801162800@www.eagleridgegolfnc.com
SUMMARY:John Deere League
DESCRIPTION:
URL:https://www.eagleridgegolfnc.com/event/john-deere-league/2027-01-28/
END:VEVENT
END:VCALENDAR