BEGIN:VCALENDAR
VERSION:2.0
PRODID:-//Eagle Ridge Golf Club - ECPv6.15.18//NONSGML v1.0//EN
CALSCALE:GREGORIAN
METHOD:PUBLISH
X-WR-CALNAME:Eagle Ridge Golf Club
X-ORIGINAL-URL:https://www.eagleridgegolfnc.com
X-WR-CALDESC:Events for Eagle Ridge Golf Club
REFRESH-INTERVAL;VALUE=DURATION:PT1H
X-Robots-Tag:noindex
X-PUBLISHED-TTL:PT1H
BEGIN:VTIMEZONE
TZID:America/New_York
BEGIN:DAYLIGHT
TZOFFSETFROM:-0500
TZOFFSETTO:-0400
TZNAME:EDT
DTSTART:20250309T070000
END:DAYLIGHT
BEGIN:STANDARD
TZOFFSETFROM:-0400
TZOFFSETTO:-0500
TZNAME:EST
DTSTART:20251102T060000
END:STANDARD
BEGIN:DAYLIGHT
TZOFFSETFROM:-0500
TZOFFSETTO:-0400
TZNAME:EDT
DTSTART:20260308T070000
END:DAYLIGHT
BEGIN:STANDARD
TZOFFSETFROM:-0400
TZOFFSETTO:-0500
TZNAME:EST
DTSTART:20261101T060000
END:STANDARD
BEGIN:DAYLIGHT
TZOFFSETFROM:-0500
TZOFFSETTO:-0400
TZNAME:EDT
DTSTART:20270314T070000
END:DAYLIGHT
BEGIN:STANDARD
TZOFFSETFROM:-0400
TZOFFSETTO:-0500
TZNAME:EST
DTSTART:20271107T060000
END:STANDARD
END:VTIMEZONE
BEGIN:VTIMEZONE
TZID:UTC
BEGIN:STANDARD
TZOFFSETFROM:+0000
TZOFFSETTO:+0000
TZNAME:UTC
DTSTART:20250101T000000
END:STANDARD
END:VTIMEZONE
BEGIN:VEVENT
DTSTART;TZID=America/New_York:20260702T171500
DTEND;TZID=America/New_York:20260702T190000
DTSTAMP:20260423T085458
CREATED:20260422T181413Z
LAST-MODIFIED:20260422T181432Z
UID:10000301-1783012500-1783018800@www.eagleridgegolfnc.com
SUMMARY:John Deere League
DESCRIPTION:
URL:https://www.eagleridgegolfnc.com/event/john-deere-league/2026-07-02/
END:VEVENT
BEGIN:VEVENT
DTSTART;VALUE=DATE:20260706
DTEND;VALUE=DATE:20260707
DTSTAMP:20260423T085458
CREATED:20250529T222619Z
LAST-MODIFIED:20250529T222656Z
UID:10000070-1783296000-1783382399@www.eagleridgegolfnc.com
SUMMARY:Member Monday
DESCRIPTION:
URL:https://www.eagleridgegolfnc.com/event/member-monday-3/2026-07-06/
END:VEVENT
BEGIN:VEVENT
DTSTART;TZID=America/New_York:20260709T171500
DTEND;TZID=America/New_York:20260709T190000
DTSTAMP:20260423T085458
CREATED:20260422T181413Z
LAST-MODIFIED:20260422T181432Z
UID:10000302-1783617300-1783623600@www.eagleridgegolfnc.com
SUMMARY:John Deere League
DESCRIPTION:
URL:https://www.eagleridgegolfnc.com/event/john-deere-league/2026-07-09/
END:VEVENT
BEGIN:VEVENT
DTSTART;VALUE=DATE:20260713
DTEND;VALUE=DATE:20260714
DTSTAMP:20260423T085458
CREATED:20250529T222619Z
LAST-MODIFIED:20250529T222656Z
UID:10000071-1783900800-1783987199@www.eagleridgegolfnc.com
SUMMARY:Member Monday
DESCRIPTION:
URL:https://www.eagleridgegolfnc.com/event/member-monday-3/2026-07-13/
END:VEVENT
BEGIN:VEVENT
DTSTART;TZID=America/New_York:20260716T171500
DTEND;TZID=America/New_York:20260716T190000
DTSTAMP:20260423T085458
CREATED:20260422T181413Z
LAST-MODIFIED:20260422T181432Z
UID:10000303-1784222100-1784228400@www.eagleridgegolfnc.com
SUMMARY:John Deere League
DESCRIPTION:
URL:https://www.eagleridgegolfnc.com/event/john-deere-league/2026-07-16/
END:VEVENT
BEGIN:VEVENT
DTSTART;VALUE=DATE:20260720
DTEND;VALUE=DATE:20260721
DTSTAMP:20260423T085458
CREATED:20250529T222619Z
LAST-MODIFIED:20250529T222656Z
UID:10000072-1784505600-1784591999@www.eagleridgegolfnc.com
SUMMARY:Member Monday
DESCRIPTION:
URL:https://www.eagleridgegolfnc.com/event/member-monday-3/2026-07-20/
END:VEVENT
BEGIN:VEVENT
DTSTART;TZID=America/New_York:20260723T171500
DTEND;TZID=America/New_York:20260723T190000
DTSTAMP:20260423T085458
CREATED:20260422T181413Z
LAST-MODIFIED:20260422T181432Z
UID:10000304-1784826900-1784833200@www.eagleridgegolfnc.com
SUMMARY:John Deere League
DESCRIPTION:
URL:https://www.eagleridgegolfnc.com/event/john-deere-league/2026-07-23/
END:VEVENT
BEGIN:VEVENT
DTSTART;VALUE=DATE:20260727
DTEND;VALUE=DATE:20260728
DTSTAMP:20260423T085458
CREATED:20250529T222619Z
LAST-MODIFIED:20250529T222656Z
UID:10000073-1785110400-1785196799@www.eagleridgegolfnc.com
SUMMARY:Member Monday
DESCRIPTION:
URL:https://www.eagleridgegolfnc.com/event/member-monday-3/2026-07-27/
END:VEVENT
BEGIN:VEVENT
DTSTART;TZID=America/New_York:20260730T171500
DTEND;TZID=America/New_York:20260730T190000
DTSTAMP:20260423T085458
CREATED:20260422T181413Z
LAST-MODIFIED:20260422T181432Z
UID:10000305-1785431700-1785438000@www.eagleridgegolfnc.com
SUMMARY:John Deere League
DESCRIPTION:
URL:https://www.eagleridgegolfnc.com/event/john-deere-league/2026-07-30/
END:VEVENT
END:VCALENDAR