BEGIN:VCALENDAR
VERSION:2.0
PRODID:-//Eagle Ridge Golf Club - ECPv6.15.18//NONSGML v1.0//EN
CALSCALE:GREGORIAN
METHOD:PUBLISH
X-ORIGINAL-URL:https://www.eagleridgegolfnc.com
X-WR-CALDESC:Events for Eagle Ridge Golf Club
REFRESH-INTERVAL;VALUE=DURATION:PT1H
X-Robots-Tag:noindex
X-PUBLISHED-TTL:PT1H
BEGIN:VTIMEZONE
TZID:UTC
BEGIN:STANDARD
TZOFFSETFROM:+0000
TZOFFSETTO:+0000
TZNAME:UTC
DTSTART:20260101T000000
END:STANDARD
END:VTIMEZONE
BEGIN:VTIMEZONE
TZID:America/New_York
BEGIN:DAYLIGHT
TZOFFSETFROM:-0500
TZOFFSETTO:-0400
TZNAME:EDT
DTSTART:20260308T070000
END:DAYLIGHT
BEGIN:STANDARD
TZOFFSETFROM:-0400
TZOFFSETTO:-0500
TZNAME:EST
DTSTART:20261101T060000
END:STANDARD
BEGIN:DAYLIGHT
TZOFFSETFROM:-0500
TZOFFSETTO:-0400
TZNAME:EDT
DTSTART:20270314T070000
END:DAYLIGHT
BEGIN:STANDARD
TZOFFSETFROM:-0400
TZOFFSETTO:-0500
TZNAME:EST
DTSTART:20271107T060000
END:STANDARD
BEGIN:DAYLIGHT
TZOFFSETFROM:-0500
TZOFFSETTO:-0400
TZNAME:EDT
DTSTART:20280312T070000
END:DAYLIGHT
BEGIN:STANDARD
TZOFFSETFROM:-0400
TZOFFSETTO:-0500
TZNAME:EST
DTSTART:20281105T060000
END:STANDARD
END:VTIMEZONE
BEGIN:VEVENT
DTSTART;VALUE=DATE:20270125
DTEND;VALUE=DATE:20270126
DTSTAMP:20260423T201113
CREATED:20250529T222619Z
LAST-MODIFIED:20250529T222656Z
UID:10000099-1800835200-1800921599@www.eagleridgegolfnc.com
SUMMARY:Member Monday
DESCRIPTION:
URL:https://www.eagleridgegolfnc.com/event/member-monday-3/2027-01-25/
END:VEVENT
BEGIN:VEVENT
DTSTART;TZID=America/New_York:20270128T171500
DTEND;TZID=America/New_York:20270128T190000
DTSTAMP:20260423T201113
CREATED:20260422T181413Z
LAST-MODIFIED:20260422T181432Z
UID:10000331-1801156500-1801162800@www.eagleridgegolfnc.com
SUMMARY:John Deere League
DESCRIPTION:
URL:https://www.eagleridgegolfnc.com/event/john-deere-league/2027-01-28/
END:VEVENT
BEGIN:VEVENT
DTSTART;VALUE=DATE:20270201
DTEND;VALUE=DATE:20270202
DTSTAMP:20260423T201113
CREATED:20250529T222619Z
LAST-MODIFIED:20250529T222656Z
UID:10000100-1801440000-1801526399@www.eagleridgegolfnc.com
SUMMARY:Member Monday
DESCRIPTION:
URL:https://www.eagleridgegolfnc.com/event/member-monday-3/2027-02-01/
END:VEVENT
BEGIN:VEVENT
DTSTART;TZID=America/New_York:20270204T171500
DTEND;TZID=America/New_York:20270204T190000
DTSTAMP:20260423T201113
CREATED:20260422T181413Z
LAST-MODIFIED:20260422T181432Z
UID:10000332-1801761300-1801767600@www.eagleridgegolfnc.com
SUMMARY:John Deere League
DESCRIPTION:
URL:https://www.eagleridgegolfnc.com/event/john-deere-league/2027-02-04/
END:VEVENT
BEGIN:VEVENT
DTSTART;VALUE=DATE:20270208
DTEND;VALUE=DATE:20270209
DTSTAMP:20260423T201113
CREATED:20250529T222619Z
LAST-MODIFIED:20250529T222656Z
UID:10000101-1802044800-1802131199@www.eagleridgegolfnc.com
SUMMARY:Member Monday
DESCRIPTION:
URL:https://www.eagleridgegolfnc.com/event/member-monday-3/2027-02-08/
END:VEVENT
BEGIN:VEVENT
DTSTART;TZID=America/New_York:20270211T171500
DTEND;TZID=America/New_York:20270211T190000
DTSTAMP:20260423T201113
CREATED:20260422T181413Z
LAST-MODIFIED:20260422T181432Z
UID:10000333-1802366100-1802372400@www.eagleridgegolfnc.com
SUMMARY:John Deere League
DESCRIPTION:
URL:https://www.eagleridgegolfnc.com/event/john-deere-league/2027-02-11/
END:VEVENT
BEGIN:VEVENT
DTSTART;VALUE=DATE:20270215
DTEND;VALUE=DATE:20270216
DTSTAMP:20260423T201113
CREATED:20250529T222619Z
LAST-MODIFIED:20250529T222656Z
UID:10000102-1802649600-1802735999@www.eagleridgegolfnc.com
SUMMARY:Member Monday
DESCRIPTION:
URL:https://www.eagleridgegolfnc.com/event/member-monday-3/2027-02-15/
END:VEVENT
BEGIN:VEVENT
DTSTART;TZID=America/New_York:20270218T171500
DTEND;TZID=America/New_York:20270218T190000
DTSTAMP:20260423T201113
CREATED:20260422T181413Z
LAST-MODIFIED:20260422T181432Z
UID:10000334-1802970900-1802977200@www.eagleridgegolfnc.com
SUMMARY:John Deere League
DESCRIPTION:
URL:https://www.eagleridgegolfnc.com/event/john-deere-league/2027-02-18/
END:VEVENT
BEGIN:VEVENT
DTSTART;VALUE=DATE:20270222
DTEND;VALUE=DATE:20270223
DTSTAMP:20260423T201113
CREATED:20250529T222619Z
LAST-MODIFIED:20250529T222656Z
UID:10000103-1803254400-1803340799@www.eagleridgegolfnc.com
SUMMARY:Member Monday
DESCRIPTION:
URL:https://www.eagleridgegolfnc.com/event/member-monday-3/2027-02-22/
END:VEVENT
BEGIN:VEVENT
DTSTART;TZID=America/New_York:20270225T171500
DTEND;TZID=America/New_York:20270225T190000
DTSTAMP:20260423T201113
CREATED:20260422T181413Z
LAST-MODIFIED:20260422T181432Z
UID:10000335-1803575700-1803582000@www.eagleridgegolfnc.com
SUMMARY:John Deere League
DESCRIPTION:
URL:https://www.eagleridgegolfnc.com/event/john-deere-league/2027-02-25/
END:VEVENT
BEGIN:VEVENT
DTSTART;VALUE=DATE:20270301
DTEND;VALUE=DATE:20270302
DTSTAMP:20260423T201113
CREATED:20250529T222619Z
LAST-MODIFIED:20250529T222656Z
UID:10000104-1803859200-1803945599@www.eagleridgegolfnc.com
SUMMARY:Member Monday
DESCRIPTION:
URL:https://www.eagleridgegolfnc.com/event/member-monday-3/2027-03-01/
END:VEVENT
BEGIN:VEVENT
DTSTART;TZID=America/New_York:20270304T171500
DTEND;TZID=America/New_York:20270304T190000
DTSTAMP:20260423T201113
CREATED:20260422T181413Z
LAST-MODIFIED:20260422T181432Z
UID:10000336-1804180500-1804186800@www.eagleridgegolfnc.com
SUMMARY:John Deere League
DESCRIPTION:
URL:https://www.eagleridgegolfnc.com/event/john-deere-league/2027-03-04/
END:VEVENT
BEGIN:VEVENT
DTSTART;VALUE=DATE:20270308
DTEND;VALUE=DATE:20270309
DTSTAMP:20260423T201113
CREATED:20250529T222619Z
LAST-MODIFIED:20250529T222656Z
UID:10000105-1804464000-1804550399@www.eagleridgegolfnc.com
SUMMARY:Member Monday
DESCRIPTION:
URL:https://www.eagleridgegolfnc.com/event/member-monday-3/2027-03-08/
END:VEVENT
BEGIN:VEVENT
DTSTART;TZID=America/New_York:20270311T171500
DTEND;TZID=America/New_York:20270311T190000
DTSTAMP:20260423T201113
CREATED:20260422T181413Z
LAST-MODIFIED:20260422T181432Z
UID:10000337-1804785300-1804791600@www.eagleridgegolfnc.com
SUMMARY:John Deere League
DESCRIPTION:
URL:https://www.eagleridgegolfnc.com/event/john-deere-league/2027-03-11/
END:VEVENT
BEGIN:VEVENT
DTSTART;VALUE=DATE:20270315
DTEND;VALUE=DATE:20270316
DTSTAMP:20260423T201113
CREATED:20250529T222619Z
LAST-MODIFIED:20250529T222656Z
UID:10000106-1805068800-1805155199@www.eagleridgegolfnc.com
SUMMARY:Member Monday
DESCRIPTION:
URL:https://www.eagleridgegolfnc.com/event/member-monday-3/2027-03-15/
END:VEVENT
BEGIN:VEVENT
DTSTART;TZID=America/New_York:20270318T171500
DTEND;TZID=America/New_York:20270318T190000
DTSTAMP:20260423T201113
CREATED:20260422T181413Z
LAST-MODIFIED:20260422T181432Z
UID:10000338-1805390100-1805396400@www.eagleridgegolfnc.com
SUMMARY:John Deere League
DESCRIPTION:
URL:https://www.eagleridgegolfnc.com/event/john-deere-league/2027-03-18/
END:VEVENT
BEGIN:VEVENT
DTSTART;VALUE=DATE:20270322
DTEND;VALUE=DATE:20270323
DTSTAMP:20260423T201113
CREATED:20250529T222619Z
LAST-MODIFIED:20250529T222656Z
UID:10000107-1805673600-1805759999@www.eagleridgegolfnc.com
SUMMARY:Member Monday
DESCRIPTION:
URL:https://www.eagleridgegolfnc.com/event/member-monday-3/2027-03-22/
END:VEVENT
BEGIN:VEVENT
DTSTART;TZID=America/New_York:20270325T171500
DTEND;TZID=America/New_York:20270325T190000
DTSTAMP:20260423T201113
CREATED:20260422T181413Z
LAST-MODIFIED:20260422T181432Z
UID:10000339-1805994900-1806001200@www.eagleridgegolfnc.com
SUMMARY:John Deere League
DESCRIPTION:
URL:https://www.eagleridgegolfnc.com/event/john-deere-league/2027-03-25/
END:VEVENT
BEGIN:VEVENT
DTSTART;VALUE=DATE:20270329
DTEND;VALUE=DATE:20270330
DTSTAMP:20260423T201113
CREATED:20250529T222619Z
LAST-MODIFIED:20250529T222656Z
UID:10000108-1806278400-1806364799@www.eagleridgegolfnc.com
SUMMARY:Member Monday
DESCRIPTION:
URL:https://www.eagleridgegolfnc.com/event/member-monday-3/2027-03-29/
END:VEVENT
BEGIN:VEVENT
DTSTART;TZID=America/New_York:20270401T171500
DTEND;TZID=America/New_York:20270401T190000
DTSTAMP:20260423T201113
CREATED:20260422T181413Z
LAST-MODIFIED:20260422T181432Z
UID:10000340-1806599700-1806606000@www.eagleridgegolfnc.com
SUMMARY:John Deere League
DESCRIPTION:
URL:https://www.eagleridgegolfnc.com/event/john-deere-league/2027-04-01/
END:VEVENT
BEGIN:VEVENT
DTSTART;VALUE=DATE:20270405
DTEND;VALUE=DATE:20270406
DTSTAMP:20260423T201113
CREATED:20250529T222619Z
LAST-MODIFIED:20250529T222656Z
UID:10000109-1806883200-1806969599@www.eagleridgegolfnc.com
SUMMARY:Member Monday
DESCRIPTION:
URL:https://www.eagleridgegolfnc.com/event/member-monday-3/2027-04-05/
END:VEVENT
BEGIN:VEVENT
DTSTART;TZID=America/New_York:20270408T171500
DTEND;TZID=America/New_York:20270408T190000
DTSTAMP:20260423T201113
CREATED:20260422T181413Z
LAST-MODIFIED:20260422T181432Z
UID:10000341-1807204500-1807210800@www.eagleridgegolfnc.com
SUMMARY:John Deere League
DESCRIPTION:
URL:https://www.eagleridgegolfnc.com/event/john-deere-league/2027-04-08/
END:VEVENT
BEGIN:VEVENT
DTSTART;VALUE=DATE:20270412
DTEND;VALUE=DATE:20270413
DTSTAMP:20260423T201113
CREATED:20250529T222619Z
LAST-MODIFIED:20250529T222656Z
UID:10000110-1807488000-1807574399@www.eagleridgegolfnc.com
SUMMARY:Member Monday
DESCRIPTION:
URL:https://www.eagleridgegolfnc.com/event/member-monday-3/2027-04-12/
END:VEVENT
BEGIN:VEVENT
DTSTART;TZID=America/New_York:20270415T171500
DTEND;TZID=America/New_York:20270415T190000
DTSTAMP:20260423T201113
CREATED:20260422T181413Z
LAST-MODIFIED:20260422T181432Z
UID:10000342-1807809300-1807815600@www.eagleridgegolfnc.com
SUMMARY:John Deere League
DESCRIPTION:
URL:https://www.eagleridgegolfnc.com/event/john-deere-league/2027-04-15/
END:VEVENT
BEGIN:VEVENT
DTSTART;VALUE=DATE:20270419
DTEND;VALUE=DATE:20270420
DTSTAMP:20260423T201113
CREATED:20250529T222619Z
LAST-MODIFIED:20250529T222656Z
UID:10000111-1808092800-1808179199@www.eagleridgegolfnc.com
SUMMARY:Member Monday
DESCRIPTION:
URL:https://www.eagleridgegolfnc.com/event/member-monday-3/2027-04-19/
END:VEVENT
BEGIN:VEVENT
DTSTART;TZID=America/New_York:20270422T171500
DTEND;TZID=America/New_York:20270422T190000
DTSTAMP:20260423T201113
CREATED:20260422T181413Z
LAST-MODIFIED:20260422T181432Z
UID:10000343-1808414100-1808420400@www.eagleridgegolfnc.com
SUMMARY:John Deere League
DESCRIPTION:
URL:https://www.eagleridgegolfnc.com/event/john-deere-league/2027-04-22/
END:VEVENT
BEGIN:VEVENT
DTSTART;VALUE=DATE:20270426
DTEND;VALUE=DATE:20270427
DTSTAMP:20260423T201113
CREATED:20250529T222619Z
LAST-MODIFIED:20250529T222656Z
UID:10000112-1808697600-1808783999@www.eagleridgegolfnc.com
SUMMARY:Member Monday
DESCRIPTION:
URL:https://www.eagleridgegolfnc.com/event/member-monday-3/2027-04-26/
END:VEVENT
BEGIN:VEVENT
DTSTART;TZID=America/New_York:20270429T171500
DTEND;TZID=America/New_York:20270429T190000
DTSTAMP:20260423T201113
CREATED:20260422T181413Z
LAST-MODIFIED:20260422T181432Z
UID:10000344-1809018900-1809025200@www.eagleridgegolfnc.com
SUMMARY:John Deere League
DESCRIPTION:
URL:https://www.eagleridgegolfnc.com/event/john-deere-league/2027-04-29/
END:VEVENT
BEGIN:VEVENT
DTSTART;VALUE=DATE:20270503
DTEND;VALUE=DATE:20270504
DTSTAMP:20260423T201113
CREATED:20250529T222619Z
LAST-MODIFIED:20250529T222656Z
UID:10000113-1809302400-1809388799@www.eagleridgegolfnc.com
SUMMARY:Member Monday
DESCRIPTION:
URL:https://www.eagleridgegolfnc.com/event/member-monday-3/2027-05-03/
END:VEVENT
BEGIN:VEVENT
DTSTART;TZID=America/New_York:20270506T171500
DTEND;TZID=America/New_York:20270506T190000
DTSTAMP:20260423T201113
CREATED:20260422T181413Z
LAST-MODIFIED:20260422T181432Z
UID:10000345-1809623700-1809630000@www.eagleridgegolfnc.com
SUMMARY:John Deere League
DESCRIPTION:
URL:https://www.eagleridgegolfnc.com/event/john-deere-league/2027-05-06/
END:VEVENT
END:VCALENDAR