BEGIN:VCALENDAR
VERSION:2.0
PRODID:-//Eagle Ridge Golf Club - ECPv6.15.18//NONSGML v1.0//EN
CALSCALE:GREGORIAN
METHOD:PUBLISH
X-ORIGINAL-URL:https://www.eagleridgegolfnc.com
X-WR-CALDESC:Events for Eagle Ridge Golf Club
REFRESH-INTERVAL;VALUE=DURATION:PT1H
X-Robots-Tag:noindex
X-PUBLISHED-TTL:PT1H
BEGIN:VTIMEZONE
TZID:UTC
BEGIN:STANDARD
TZOFFSETFROM:+0000
TZOFFSETTO:+0000
TZNAME:UTC
DTSTART:20270101T000000
END:STANDARD
END:VTIMEZONE
BEGIN:VEVENT
DTSTART;VALUE=DATE:20280221
DTEND;VALUE=DATE:20280222
DTSTAMP:20260420T005744
CREATED:20250529T222619Z
LAST-MODIFIED:20250529T222656Z
UID:10000155-1834704000-1834790399@www.eagleridgegolfnc.com
SUMMARY:Member Monday
DESCRIPTION:
URL:https://www.eagleridgegolfnc.com/event/member-monday-3/2028-02-21/
END:VEVENT
BEGIN:VEVENT
DTSTART;VALUE=DATE:20280228
DTEND;VALUE=DATE:20280229
DTSTAMP:20260420T005744
CREATED:20250529T222619Z
LAST-MODIFIED:20250529T222656Z
UID:10000156-1835308800-1835395199@www.eagleridgegolfnc.com
SUMMARY:Member Monday
DESCRIPTION:
URL:https://www.eagleridgegolfnc.com/event/member-monday-3/2028-02-28/
END:VEVENT
BEGIN:VEVENT
DTSTART;VALUE=DATE:20280306
DTEND;VALUE=DATE:20280307
DTSTAMP:20260420T005744
CREATED:20250529T222619Z
LAST-MODIFIED:20250529T222656Z
UID:10000157-1835913600-1835999999@www.eagleridgegolfnc.com
SUMMARY:Member Monday
DESCRIPTION:
URL:https://www.eagleridgegolfnc.com/event/member-monday-3/2028-03-06/
END:VEVENT
BEGIN:VEVENT
DTSTART;VALUE=DATE:20280313
DTEND;VALUE=DATE:20280314
DTSTAMP:20260420T005744
CREATED:20250529T222619Z
LAST-MODIFIED:20250529T222656Z
UID:10000158-1836518400-1836604799@www.eagleridgegolfnc.com
SUMMARY:Member Monday
DESCRIPTION:
URL:https://www.eagleridgegolfnc.com/event/member-monday-3/2028-03-13/
END:VEVENT
BEGIN:VEVENT
DTSTART;VALUE=DATE:20280320
DTEND;VALUE=DATE:20280321
DTSTAMP:20260420T005744
CREATED:20250529T222619Z
LAST-MODIFIED:20250529T222656Z
UID:10000159-1837123200-1837209599@www.eagleridgegolfnc.com
SUMMARY:Member Monday
DESCRIPTION:
URL:https://www.eagleridgegolfnc.com/event/member-monday-3/2028-03-20/
END:VEVENT
BEGIN:VEVENT
DTSTART;VALUE=DATE:20280327
DTEND;VALUE=DATE:20280328
DTSTAMP:20260420T005744
CREATED:20250529T222619Z
LAST-MODIFIED:20250529T222656Z
UID:10000160-1837728000-1837814399@www.eagleridgegolfnc.com
SUMMARY:Member Monday
DESCRIPTION:
URL:https://www.eagleridgegolfnc.com/event/member-monday-3/2028-03-27/
END:VEVENT
BEGIN:VEVENT
DTSTART;VALUE=DATE:20280403
DTEND;VALUE=DATE:20280404
DTSTAMP:20260420T005744
CREATED:20250529T222619Z
LAST-MODIFIED:20250529T222656Z
UID:10000161-1838332800-1838419199@www.eagleridgegolfnc.com
SUMMARY:Member Monday
DESCRIPTION:
URL:https://www.eagleridgegolfnc.com/event/member-monday-3/2028-04-03/
END:VEVENT
BEGIN:VEVENT
DTSTART;VALUE=DATE:20280410
DTEND;VALUE=DATE:20280411
DTSTAMP:20260420T005744
CREATED:20250529T222619Z
LAST-MODIFIED:20250529T222656Z
UID:10000162-1838937600-1839023999@www.eagleridgegolfnc.com
SUMMARY:Member Monday
DESCRIPTION:
URL:https://www.eagleridgegolfnc.com/event/member-monday-3/2028-04-10/
END:VEVENT
BEGIN:VEVENT
DTSTART;VALUE=DATE:20280417
DTEND;VALUE=DATE:20280418
DTSTAMP:20260420T005744
CREATED:20250529T222619Z
LAST-MODIFIED:20250529T222656Z
UID:10000163-1839542400-1839628799@www.eagleridgegolfnc.com
SUMMARY:Member Monday
DESCRIPTION:
URL:https://www.eagleridgegolfnc.com/event/member-monday-3/2028-04-17/
END:VEVENT
BEGIN:VEVENT
DTSTART;VALUE=DATE:20280424
DTEND;VALUE=DATE:20280425
DTSTAMP:20260420T005744
CREATED:20250529T222619Z
LAST-MODIFIED:20250529T222656Z
UID:10000164-1840147200-1840233599@www.eagleridgegolfnc.com
SUMMARY:Member Monday
DESCRIPTION:
URL:https://www.eagleridgegolfnc.com/event/member-monday-3/2028-04-24/
END:VEVENT
BEGIN:VEVENT
DTSTART;VALUE=DATE:20280501
DTEND;VALUE=DATE:20280502
DTSTAMP:20260420T005744
CREATED:20250529T222619Z
LAST-MODIFIED:20250529T222656Z
UID:10000165-1840752000-1840838399@www.eagleridgegolfnc.com
SUMMARY:Member Monday
DESCRIPTION:
URL:https://www.eagleridgegolfnc.com/event/member-monday-3/2028-05-01/
END:VEVENT
BEGIN:VEVENT
DTSTART;VALUE=DATE:20280508
DTEND;VALUE=DATE:20280509
DTSTAMP:20260420T005744
CREATED:20250529T222619Z
LAST-MODIFIED:20250529T222656Z
UID:10000166-1841356800-1841443199@www.eagleridgegolfnc.com
SUMMARY:Member Monday
DESCRIPTION:
URL:https://www.eagleridgegolfnc.com/event/member-monday-3/2028-05-08/
END:VEVENT
BEGIN:VEVENT
DTSTART;VALUE=DATE:20280515
DTEND;VALUE=DATE:20280516
DTSTAMP:20260420T005744
CREATED:20250529T222619Z
LAST-MODIFIED:20250529T222656Z
UID:10000167-1841961600-1842047999@www.eagleridgegolfnc.com
SUMMARY:Member Monday
DESCRIPTION:
URL:https://www.eagleridgegolfnc.com/event/member-monday-3/2028-05-15/
END:VEVENT
BEGIN:VEVENT
DTSTART;VALUE=DATE:20280522
DTEND;VALUE=DATE:20280523
DTSTAMP:20260420T005744
CREATED:20250529T222619Z
LAST-MODIFIED:20250529T222656Z
UID:10000168-1842566400-1842652799@www.eagleridgegolfnc.com
SUMMARY:Member Monday
DESCRIPTION:
URL:https://www.eagleridgegolfnc.com/event/member-monday-3/2028-05-22/
END:VEVENT
BEGIN:VEVENT
DTSTART;VALUE=DATE:20280529
DTEND;VALUE=DATE:20280530
DTSTAMP:20260420T005744
CREATED:20250529T222619Z
LAST-MODIFIED:20250529T222656Z
UID:10000169-1843171200-1843257599@www.eagleridgegolfnc.com
SUMMARY:Member Monday
DESCRIPTION:
URL:https://www.eagleridgegolfnc.com/event/member-monday-3/2028-05-29/
END:VEVENT
BEGIN:VEVENT
DTSTART;VALUE=DATE:20280605
DTEND;VALUE=DATE:20280606
DTSTAMP:20260420T005744
CREATED:20250529T222619Z
LAST-MODIFIED:20250529T222656Z
UID:10000170-1843776000-1843862399@www.eagleridgegolfnc.com
SUMMARY:Member Monday
DESCRIPTION:
URL:https://www.eagleridgegolfnc.com/event/member-monday-3/2028-06-05/
END:VEVENT
BEGIN:VEVENT
DTSTART;VALUE=DATE:20280612
DTEND;VALUE=DATE:20280613
DTSTAMP:20260420T005744
CREATED:20250529T222619Z
LAST-MODIFIED:20250529T222656Z
UID:10000171-1844380800-1844467199@www.eagleridgegolfnc.com
SUMMARY:Member Monday
DESCRIPTION:
URL:https://www.eagleridgegolfnc.com/event/member-monday-3/2028-06-12/
END:VEVENT
BEGIN:VEVENT
DTSTART;VALUE=DATE:20280619
DTEND;VALUE=DATE:20280620
DTSTAMP:20260420T005744
CREATED:20250529T222619Z
LAST-MODIFIED:20250529T222656Z
UID:10000172-1844985600-1845071999@www.eagleridgegolfnc.com
SUMMARY:Member Monday
DESCRIPTION:
URL:https://www.eagleridgegolfnc.com/event/member-monday-3/2028-06-19/
END:VEVENT
BEGIN:VEVENT
DTSTART;VALUE=DATE:20280626
DTEND;VALUE=DATE:20280627
DTSTAMP:20260420T005744
CREATED:20250529T222619Z
LAST-MODIFIED:20250529T222656Z
UID:10000173-1845590400-1845676799@www.eagleridgegolfnc.com
SUMMARY:Member Monday
DESCRIPTION:
URL:https://www.eagleridgegolfnc.com/event/member-monday-3/2028-06-26/
END:VEVENT
BEGIN:VEVENT
DTSTART;VALUE=DATE:20280703
DTEND;VALUE=DATE:20280704
DTSTAMP:20260420T005744
CREATED:20250529T222619Z
LAST-MODIFIED:20250529T222656Z
UID:10000174-1846195200-1846281599@www.eagleridgegolfnc.com
SUMMARY:Member Monday
DESCRIPTION:
URL:https://www.eagleridgegolfnc.com/event/member-monday-3/2028-07-03/
END:VEVENT
BEGIN:VEVENT
DTSTART;VALUE=DATE:20280710
DTEND;VALUE=DATE:20280711
DTSTAMP:20260420T005744
CREATED:20250529T222619Z
LAST-MODIFIED:20250529T222656Z
UID:10000175-1846800000-1846886399@www.eagleridgegolfnc.com
SUMMARY:Member Monday
DESCRIPTION:
URL:https://www.eagleridgegolfnc.com/event/member-monday-3/2028-07-10/
END:VEVENT
BEGIN:VEVENT
DTSTART;VALUE=DATE:20280717
DTEND;VALUE=DATE:20280718
DTSTAMP:20260420T005744
CREATED:20250529T222619Z
LAST-MODIFIED:20250529T222656Z
UID:10000176-1847404800-1847491199@www.eagleridgegolfnc.com
SUMMARY:Member Monday
DESCRIPTION:
URL:https://www.eagleridgegolfnc.com/event/member-monday-3/2028-07-17/
END:VEVENT
BEGIN:VEVENT
DTSTART;VALUE=DATE:20280724
DTEND;VALUE=DATE:20280725
DTSTAMP:20260420T005744
CREATED:20250529T222619Z
LAST-MODIFIED:20250529T222656Z
UID:10000177-1848009600-1848095999@www.eagleridgegolfnc.com
SUMMARY:Member Monday
DESCRIPTION:
URL:https://www.eagleridgegolfnc.com/event/member-monday-3/2028-07-24/
END:VEVENT
BEGIN:VEVENT
DTSTART;VALUE=DATE:20280731
DTEND;VALUE=DATE:20280801
DTSTAMP:20260420T005744
CREATED:20250529T222619Z
LAST-MODIFIED:20250529T222656Z
UID:10000178-1848614400-1848700799@www.eagleridgegolfnc.com
SUMMARY:Member Monday
DESCRIPTION:
URL:https://www.eagleridgegolfnc.com/event/member-monday-3/2028-07-31/
END:VEVENT
BEGIN:VEVENT
DTSTART;VALUE=DATE:20280807
DTEND;VALUE=DATE:20280808
DTSTAMP:20260420T005744
CREATED:20250529T222619Z
LAST-MODIFIED:20250529T222656Z
UID:10000179-1849219200-1849305599@www.eagleridgegolfnc.com
SUMMARY:Member Monday
DESCRIPTION:
URL:https://www.eagleridgegolfnc.com/event/member-monday-3/2028-08-07/
END:VEVENT
BEGIN:VEVENT
DTSTART;VALUE=DATE:20280814
DTEND;VALUE=DATE:20280815
DTSTAMP:20260420T005744
CREATED:20250529T222619Z
LAST-MODIFIED:20250529T222656Z
UID:10000180-1849824000-1849910399@www.eagleridgegolfnc.com
SUMMARY:Member Monday
DESCRIPTION:
URL:https://www.eagleridgegolfnc.com/event/member-monday-3/2028-08-14/
END:VEVENT
BEGIN:VEVENT
DTSTART;VALUE=DATE:20280821
DTEND;VALUE=DATE:20280822
DTSTAMP:20260420T005744
CREATED:20250529T222619Z
LAST-MODIFIED:20250529T222656Z
UID:10000181-1850428800-1850515199@www.eagleridgegolfnc.com
SUMMARY:Member Monday
DESCRIPTION:
URL:https://www.eagleridgegolfnc.com/event/member-monday-3/2028-08-21/
END:VEVENT
BEGIN:VEVENT
DTSTART;VALUE=DATE:20280828
DTEND;VALUE=DATE:20280829
DTSTAMP:20260420T005744
CREATED:20250529T222619Z
LAST-MODIFIED:20250529T222656Z
UID:10000182-1851033600-1851119999@www.eagleridgegolfnc.com
SUMMARY:Member Monday
DESCRIPTION:
URL:https://www.eagleridgegolfnc.com/event/member-monday-3/2028-08-28/
END:VEVENT
BEGIN:VEVENT
DTSTART;VALUE=DATE:20280904
DTEND;VALUE=DATE:20280905
DTSTAMP:20260420T005744
CREATED:20250529T222619Z
LAST-MODIFIED:20250529T222656Z
UID:10000183-1851638400-1851724799@www.eagleridgegolfnc.com
SUMMARY:Member Monday
DESCRIPTION:
URL:https://www.eagleridgegolfnc.com/event/member-monday-3/2028-09-04/
END:VEVENT
BEGIN:VEVENT
DTSTART;VALUE=DATE:20280911
DTEND;VALUE=DATE:20280912
DTSTAMP:20260420T005744
CREATED:20250529T222619Z
LAST-MODIFIED:20250529T222656Z
UID:10000184-1852243200-1852329599@www.eagleridgegolfnc.com
SUMMARY:Member Monday
DESCRIPTION:
URL:https://www.eagleridgegolfnc.com/event/member-monday-3/2028-09-11/
END:VEVENT
END:VCALENDAR