BEGIN:VCALENDAR
VERSION:2.0
PRODID:-//Eagle Ridge Golf Club - ECPv6.15.18//NONSGML v1.0//EN
CALSCALE:GREGORIAN
METHOD:PUBLISH
X-ORIGINAL-URL:https://www.eagleridgegolfnc.com
X-WR-CALDESC:Events for Eagle Ridge Golf Club
REFRESH-INTERVAL;VALUE=DURATION:PT1H
X-Robots-Tag:noindex
X-PUBLISHED-TTL:PT1H
BEGIN:VTIMEZONE
TZID:America/New_York
BEGIN:DAYLIGHT
TZOFFSETFROM:-0500
TZOFFSETTO:-0400
TZNAME:EDT
DTSTART:20250309T070000
END:DAYLIGHT
BEGIN:STANDARD
TZOFFSETFROM:-0400
TZOFFSETTO:-0500
TZNAME:EST
DTSTART:20251102T060000
END:STANDARD
BEGIN:DAYLIGHT
TZOFFSETFROM:-0500
TZOFFSETTO:-0400
TZNAME:EDT
DTSTART:20260308T070000
END:DAYLIGHT
BEGIN:STANDARD
TZOFFSETFROM:-0400
TZOFFSETTO:-0500
TZNAME:EST
DTSTART:20261101T060000
END:STANDARD
BEGIN:DAYLIGHT
TZOFFSETFROM:-0500
TZOFFSETTO:-0400
TZNAME:EDT
DTSTART:20270314T070000
END:DAYLIGHT
BEGIN:STANDARD
TZOFFSETFROM:-0400
TZOFFSETTO:-0500
TZNAME:EST
DTSTART:20271107T060000
END:STANDARD
END:VTIMEZONE
BEGIN:VTIMEZONE
TZID:UTC
BEGIN:STANDARD
TZOFFSETFROM:+0000
TZOFFSETTO:+0000
TZNAME:UTC
DTSTART:20250101T000000
END:STANDARD
END:VTIMEZONE
BEGIN:VEVENT
DTSTART;TZID=America/New_York:20260813T171500
DTEND;TZID=America/New_York:20260813T190000
DTSTAMP:20260423T074602
CREATED:20260422T181413Z
LAST-MODIFIED:20260422T181432Z
UID:10000307-1786641300-1786647600@www.eagleridgegolfnc.com
SUMMARY:John Deere League
DESCRIPTION:
URL:https://www.eagleridgegolfnc.com/event/john-deere-league/2026-08-13/
END:VEVENT
BEGIN:VEVENT
DTSTART;VALUE=DATE:20260817
DTEND;VALUE=DATE:20260818
DTSTAMP:20260423T074602
CREATED:20250529T222619Z
LAST-MODIFIED:20250529T222656Z
UID:10000076-1786924800-1787011199@www.eagleridgegolfnc.com
SUMMARY:Member Monday
DESCRIPTION:
URL:https://www.eagleridgegolfnc.com/event/member-monday-3/2026-08-17/
END:VEVENT
BEGIN:VEVENT
DTSTART;TZID=America/New_York:20260820T171500
DTEND;TZID=America/New_York:20260820T190000
DTSTAMP:20260423T074602
CREATED:20260422T181413Z
LAST-MODIFIED:20260422T181432Z
UID:10000308-1787246100-1787252400@www.eagleridgegolfnc.com
SUMMARY:John Deere League
DESCRIPTION:
URL:https://www.eagleridgegolfnc.com/event/john-deere-league/2026-08-20/
END:VEVENT
BEGIN:VEVENT
DTSTART;VALUE=DATE:20260824
DTEND;VALUE=DATE:20260825
DTSTAMP:20260423T074602
CREATED:20250529T222619Z
LAST-MODIFIED:20250529T222656Z
UID:10000077-1787529600-1787615999@www.eagleridgegolfnc.com
SUMMARY:Member Monday
DESCRIPTION:
URL:https://www.eagleridgegolfnc.com/event/member-monday-3/2026-08-24/
END:VEVENT
BEGIN:VEVENT
DTSTART;TZID=America/New_York:20260827T171500
DTEND;TZID=America/New_York:20260827T190000
DTSTAMP:20260423T074602
CREATED:20260422T181413Z
LAST-MODIFIED:20260422T181432Z
UID:10000309-1787850900-1787857200@www.eagleridgegolfnc.com
SUMMARY:John Deere League
DESCRIPTION:
URL:https://www.eagleridgegolfnc.com/event/john-deere-league/2026-08-27/
END:VEVENT
BEGIN:VEVENT
DTSTART;VALUE=DATE:20260831
DTEND;VALUE=DATE:20260901
DTSTAMP:20260423T074602
CREATED:20250529T222619Z
LAST-MODIFIED:20250529T222656Z
UID:10000078-1788134400-1788220799@www.eagleridgegolfnc.com
SUMMARY:Member Monday
DESCRIPTION:
URL:https://www.eagleridgegolfnc.com/event/member-monday-3/2026-08-31/
END:VEVENT
BEGIN:VEVENT
DTSTART;TZID=America/New_York:20260903T171500
DTEND;TZID=America/New_York:20260903T190000
DTSTAMP:20260423T074602
CREATED:20260422T181413Z
LAST-MODIFIED:20260422T181432Z
UID:10000310-1788455700-1788462000@www.eagleridgegolfnc.com
SUMMARY:John Deere League
DESCRIPTION:
URL:https://www.eagleridgegolfnc.com/event/john-deere-league/2026-09-03/
END:VEVENT
BEGIN:VEVENT
DTSTART;VALUE=DATE:20260907
DTEND;VALUE=DATE:20260908
DTSTAMP:20260423T074602
CREATED:20250529T222619Z
LAST-MODIFIED:20250529T222656Z
UID:10000079-1788739200-1788825599@www.eagleridgegolfnc.com
SUMMARY:Member Monday
DESCRIPTION:
URL:https://www.eagleridgegolfnc.com/event/member-monday-3/2026-09-07/
END:VEVENT
BEGIN:VEVENT
DTSTART;TZID=America/New_York:20260910T171500
DTEND;TZID=America/New_York:20260910T190000
DTSTAMP:20260423T074602
CREATED:20260422T181413Z
LAST-MODIFIED:20260422T181432Z
UID:10000311-1789060500-1789066800@www.eagleridgegolfnc.com
SUMMARY:John Deere League
DESCRIPTION:
URL:https://www.eagleridgegolfnc.com/event/john-deere-league/2026-09-10/
END:VEVENT
BEGIN:VEVENT
DTSTART;VALUE=DATE:20260914
DTEND;VALUE=DATE:20260915
DTSTAMP:20260423T074602
CREATED:20250529T222619Z
LAST-MODIFIED:20250529T222656Z
UID:10000080-1789344000-1789430399@www.eagleridgegolfnc.com
SUMMARY:Member Monday
DESCRIPTION:
URL:https://www.eagleridgegolfnc.com/event/member-monday-3/2026-09-14/
END:VEVENT
BEGIN:VEVENT
DTSTART;TZID=America/New_York:20260917T171500
DTEND;TZID=America/New_York:20260917T190000
DTSTAMP:20260423T074602
CREATED:20260422T181413Z
LAST-MODIFIED:20260422T181432Z
UID:10000312-1789665300-1789671600@www.eagleridgegolfnc.com
SUMMARY:John Deere League
DESCRIPTION:
URL:https://www.eagleridgegolfnc.com/event/john-deere-league/2026-09-17/
END:VEVENT
BEGIN:VEVENT
DTSTART;VALUE=DATE:20260921
DTEND;VALUE=DATE:20260922
DTSTAMP:20260423T074602
CREATED:20250529T222619Z
LAST-MODIFIED:20250529T222656Z
UID:10000081-1789948800-1790035199@www.eagleridgegolfnc.com
SUMMARY:Member Monday
DESCRIPTION:
URL:https://www.eagleridgegolfnc.com/event/member-monday-3/2026-09-21/
END:VEVENT
BEGIN:VEVENT
DTSTART;TZID=America/New_York:20260924T171500
DTEND;TZID=America/New_York:20260924T190000
DTSTAMP:20260423T074602
CREATED:20260422T181413Z
LAST-MODIFIED:20260422T181432Z
UID:10000313-1790270100-1790276400@www.eagleridgegolfnc.com
SUMMARY:John Deere League
DESCRIPTION:
URL:https://www.eagleridgegolfnc.com/event/john-deere-league/2026-09-24/
END:VEVENT
BEGIN:VEVENT
DTSTART;VALUE=DATE:20260928
DTEND;VALUE=DATE:20260929
DTSTAMP:20260423T074602
CREATED:20250529T222619Z
LAST-MODIFIED:20250529T222656Z
UID:10000082-1790553600-1790639999@www.eagleridgegolfnc.com
SUMMARY:Member Monday
DESCRIPTION:
URL:https://www.eagleridgegolfnc.com/event/member-monday-3/2026-09-28/
END:VEVENT
BEGIN:VEVENT
DTSTART;TZID=America/New_York:20261001T171500
DTEND;TZID=America/New_York:20261001T190000
DTSTAMP:20260423T074602
CREATED:20260422T181413Z
LAST-MODIFIED:20260422T181432Z
UID:10000314-1790874900-1790881200@www.eagleridgegolfnc.com
SUMMARY:John Deere League
DESCRIPTION:
URL:https://www.eagleridgegolfnc.com/event/john-deere-league/2026-10-01/
END:VEVENT
BEGIN:VEVENT
DTSTART;VALUE=DATE:20261005
DTEND;VALUE=DATE:20261006
DTSTAMP:20260423T074602
CREATED:20250529T222619Z
LAST-MODIFIED:20250529T222656Z
UID:10000083-1791158400-1791244799@www.eagleridgegolfnc.com
SUMMARY:Member Monday
DESCRIPTION:
URL:https://www.eagleridgegolfnc.com/event/member-monday-3/2026-10-05/
END:VEVENT
BEGIN:VEVENT
DTSTART;TZID=America/New_York:20261008T171500
DTEND;TZID=America/New_York:20261008T190000
DTSTAMP:20260423T074602
CREATED:20260422T181413Z
LAST-MODIFIED:20260422T181432Z
UID:10000315-1791479700-1791486000@www.eagleridgegolfnc.com
SUMMARY:John Deere League
DESCRIPTION:
URL:https://www.eagleridgegolfnc.com/event/john-deere-league/2026-10-08/
END:VEVENT
BEGIN:VEVENT
DTSTART;VALUE=DATE:20261012
DTEND;VALUE=DATE:20261013
DTSTAMP:20260423T074602
CREATED:20250529T222619Z
LAST-MODIFIED:20250529T222656Z
UID:10000084-1791763200-1791849599@www.eagleridgegolfnc.com
SUMMARY:Member Monday
DESCRIPTION:
URL:https://www.eagleridgegolfnc.com/event/member-monday-3/2026-10-12/
END:VEVENT
BEGIN:VEVENT
DTSTART;TZID=America/New_York:20261015T171500
DTEND;TZID=America/New_York:20261015T190000
DTSTAMP:20260423T074602
CREATED:20260422T181413Z
LAST-MODIFIED:20260422T181432Z
UID:10000316-1792084500-1792090800@www.eagleridgegolfnc.com
SUMMARY:John Deere League
DESCRIPTION:
URL:https://www.eagleridgegolfnc.com/event/john-deere-league/2026-10-15/
END:VEVENT
BEGIN:VEVENT
DTSTART;VALUE=DATE:20261019
DTEND;VALUE=DATE:20261020
DTSTAMP:20260423T074602
CREATED:20250529T222619Z
LAST-MODIFIED:20250529T222656Z
UID:10000085-1792368000-1792454399@www.eagleridgegolfnc.com
SUMMARY:Member Monday
DESCRIPTION:
URL:https://www.eagleridgegolfnc.com/event/member-monday-3/2026-10-19/
END:VEVENT
BEGIN:VEVENT
DTSTART;TZID=America/New_York:20261022T171500
DTEND;TZID=America/New_York:20261022T190000
DTSTAMP:20260423T074602
CREATED:20260422T181413Z
LAST-MODIFIED:20260422T181432Z
UID:10000317-1792689300-1792695600@www.eagleridgegolfnc.com
SUMMARY:John Deere League
DESCRIPTION:
URL:https://www.eagleridgegolfnc.com/event/john-deere-league/2026-10-22/
END:VEVENT
BEGIN:VEVENT
DTSTART;VALUE=DATE:20261026
DTEND;VALUE=DATE:20261027
DTSTAMP:20260423T074602
CREATED:20250529T222619Z
LAST-MODIFIED:20250529T222656Z
UID:10000086-1792972800-1793059199@www.eagleridgegolfnc.com
SUMMARY:Member Monday
DESCRIPTION:
URL:https://www.eagleridgegolfnc.com/event/member-monday-3/2026-10-26/
END:VEVENT
BEGIN:VEVENT
DTSTART;TZID=America/New_York:20261029T171500
DTEND;TZID=America/New_York:20261029T190000
DTSTAMP:20260423T074602
CREATED:20260422T181413Z
LAST-MODIFIED:20260422T181432Z
UID:10000318-1793294100-1793300400@www.eagleridgegolfnc.com
SUMMARY:John Deere League
DESCRIPTION:
URL:https://www.eagleridgegolfnc.com/event/john-deere-league/2026-10-29/
END:VEVENT
BEGIN:VEVENT
DTSTART;VALUE=DATE:20261102
DTEND;VALUE=DATE:20261103
DTSTAMP:20260423T074602
CREATED:20250529T222619Z
LAST-MODIFIED:20250529T222656Z
UID:10000087-1793577600-1793663999@www.eagleridgegolfnc.com
SUMMARY:Member Monday
DESCRIPTION:
URL:https://www.eagleridgegolfnc.com/event/member-monday-3/2026-11-02/
END:VEVENT
BEGIN:VEVENT
DTSTART;TZID=America/New_York:20261105T171500
DTEND;TZID=America/New_York:20261105T190000
DTSTAMP:20260423T074602
CREATED:20260422T181413Z
LAST-MODIFIED:20260422T181432Z
UID:10000319-1793898900-1793905200@www.eagleridgegolfnc.com
SUMMARY:John Deere League
DESCRIPTION:
URL:https://www.eagleridgegolfnc.com/event/john-deere-league/2026-11-05/
END:VEVENT
BEGIN:VEVENT
DTSTART;VALUE=DATE:20261109
DTEND;VALUE=DATE:20261110
DTSTAMP:20260423T074602
CREATED:20250529T222619Z
LAST-MODIFIED:20250529T222656Z
UID:10000088-1794182400-1794268799@www.eagleridgegolfnc.com
SUMMARY:Member Monday
DESCRIPTION:
URL:https://www.eagleridgegolfnc.com/event/member-monday-3/2026-11-09/
END:VEVENT
BEGIN:VEVENT
DTSTART;TZID=America/New_York:20261112T171500
DTEND;TZID=America/New_York:20261112T190000
DTSTAMP:20260423T074602
CREATED:20260422T181413Z
LAST-MODIFIED:20260422T181432Z
UID:10000320-1794503700-1794510000@www.eagleridgegolfnc.com
SUMMARY:John Deere League
DESCRIPTION:
URL:https://www.eagleridgegolfnc.com/event/john-deere-league/2026-11-12/
END:VEVENT
BEGIN:VEVENT
DTSTART;VALUE=DATE:20261116
DTEND;VALUE=DATE:20261117
DTSTAMP:20260423T074602
CREATED:20250529T222619Z
LAST-MODIFIED:20250529T222656Z
UID:10000089-1794787200-1794873599@www.eagleridgegolfnc.com
SUMMARY:Member Monday
DESCRIPTION:
URL:https://www.eagleridgegolfnc.com/event/member-monday-3/2026-11-16/
END:VEVENT
BEGIN:VEVENT
DTSTART;TZID=America/New_York:20261119T171500
DTEND;TZID=America/New_York:20261119T190000
DTSTAMP:20260423T074602
CREATED:20260422T181413Z
LAST-MODIFIED:20260422T181432Z
UID:10000321-1795108500-1795114800@www.eagleridgegolfnc.com
SUMMARY:John Deere League
DESCRIPTION:
URL:https://www.eagleridgegolfnc.com/event/john-deere-league/2026-11-19/
END:VEVENT
BEGIN:VEVENT
DTSTART;VALUE=DATE:20261123
DTEND;VALUE=DATE:20261124
DTSTAMP:20260423T074602
CREATED:20250529T222619Z
LAST-MODIFIED:20250529T222656Z
UID:10000090-1795392000-1795478399@www.eagleridgegolfnc.com
SUMMARY:Member Monday
DESCRIPTION:
URL:https://www.eagleridgegolfnc.com/event/member-monday-3/2026-11-23/
END:VEVENT
END:VCALENDAR