BEGIN:VCALENDAR
VERSION:2.0
PRODID:-//Eagle Ridge Golf Club - ECPv6.15.18//NONSGML v1.0//EN
CALSCALE:GREGORIAN
METHOD:PUBLISH
X-ORIGINAL-URL:https://www.eagleridgegolfnc.com
X-WR-CALDESC:Events for Eagle Ridge Golf Club
REFRESH-INTERVAL;VALUE=DURATION:PT1H
X-Robots-Tag:noindex
X-PUBLISHED-TTL:PT1H
BEGIN:VTIMEZONE
TZID:UTC
BEGIN:STANDARD
TZOFFSETFROM:+0000
TZOFFSETTO:+0000
TZNAME:UTC
DTSTART:20260101T000000
END:STANDARD
END:VTIMEZONE
BEGIN:VTIMEZONE
TZID:America/New_York
BEGIN:DAYLIGHT
TZOFFSETFROM:-0500
TZOFFSETTO:-0400
TZNAME:EDT
DTSTART:20260308T070000
END:DAYLIGHT
BEGIN:STANDARD
TZOFFSETFROM:-0400
TZOFFSETTO:-0500
TZNAME:EST
DTSTART:20261101T060000
END:STANDARD
BEGIN:DAYLIGHT
TZOFFSETFROM:-0500
TZOFFSETTO:-0400
TZNAME:EDT
DTSTART:20270314T070000
END:DAYLIGHT
BEGIN:STANDARD
TZOFFSETFROM:-0400
TZOFFSETTO:-0500
TZNAME:EST
DTSTART:20271107T060000
END:STANDARD
BEGIN:DAYLIGHT
TZOFFSETFROM:-0500
TZOFFSETTO:-0400
TZNAME:EDT
DTSTART:20280312T070000
END:DAYLIGHT
BEGIN:STANDARD
TZOFFSETFROM:-0400
TZOFFSETTO:-0500
TZNAME:EST
DTSTART:20281105T060000
END:STANDARD
END:VTIMEZONE
BEGIN:VEVENT
DTSTART;VALUE=DATE:20270405
DTEND;VALUE=DATE:20270406
DTSTAMP:20260425T112319
CREATED:20250529T222619Z
LAST-MODIFIED:20250529T222656Z
UID:10000109-1806883200-1806969599@www.eagleridgegolfnc.com
SUMMARY:Member Monday
DESCRIPTION:
URL:https://www.eagleridgegolfnc.com/event/member-monday-3/2027-04-05/
END:VEVENT
BEGIN:VEVENT
DTSTART;TZID=America/New_York:20270408T171500
DTEND;TZID=America/New_York:20270408T190000
DTSTAMP:20260425T112319
CREATED:20260422T181413Z
LAST-MODIFIED:20260422T181432Z
UID:10000341-1807204500-1807210800@www.eagleridgegolfnc.com
SUMMARY:John Deere League
DESCRIPTION:
URL:https://www.eagleridgegolfnc.com/event/john-deere-league/2027-04-08/
END:VEVENT
BEGIN:VEVENT
DTSTART;VALUE=DATE:20270412
DTEND;VALUE=DATE:20270413
DTSTAMP:20260425T112319
CREATED:20250529T222619Z
LAST-MODIFIED:20250529T222656Z
UID:10000110-1807488000-1807574399@www.eagleridgegolfnc.com
SUMMARY:Member Monday
DESCRIPTION:
URL:https://www.eagleridgegolfnc.com/event/member-monday-3/2027-04-12/
END:VEVENT
BEGIN:VEVENT
DTSTART;TZID=America/New_York:20270415T171500
DTEND;TZID=America/New_York:20270415T190000
DTSTAMP:20260425T112319
CREATED:20260422T181413Z
LAST-MODIFIED:20260422T181432Z
UID:10000342-1807809300-1807815600@www.eagleridgegolfnc.com
SUMMARY:John Deere League
DESCRIPTION:
URL:https://www.eagleridgegolfnc.com/event/john-deere-league/2027-04-15/
END:VEVENT
BEGIN:VEVENT
DTSTART;VALUE=DATE:20270419
DTEND;VALUE=DATE:20270420
DTSTAMP:20260425T112319
CREATED:20250529T222619Z
LAST-MODIFIED:20250529T222656Z
UID:10000111-1808092800-1808179199@www.eagleridgegolfnc.com
SUMMARY:Member Monday
DESCRIPTION:
URL:https://www.eagleridgegolfnc.com/event/member-monday-3/2027-04-19/
END:VEVENT
BEGIN:VEVENT
DTSTART;TZID=America/New_York:20270422T171500
DTEND;TZID=America/New_York:20270422T190000
DTSTAMP:20260425T112319
CREATED:20260422T181413Z
LAST-MODIFIED:20260422T181432Z
UID:10000343-1808414100-1808420400@www.eagleridgegolfnc.com
SUMMARY:John Deere League
DESCRIPTION:
URL:https://www.eagleridgegolfnc.com/event/john-deere-league/2027-04-22/
END:VEVENT
BEGIN:VEVENT
DTSTART;VALUE=DATE:20270426
DTEND;VALUE=DATE:20270427
DTSTAMP:20260425T112319
CREATED:20250529T222619Z
LAST-MODIFIED:20250529T222656Z
UID:10000112-1808697600-1808783999@www.eagleridgegolfnc.com
SUMMARY:Member Monday
DESCRIPTION:
URL:https://www.eagleridgegolfnc.com/event/member-monday-3/2027-04-26/
END:VEVENT
BEGIN:VEVENT
DTSTART;TZID=America/New_York:20270429T171500
DTEND;TZID=America/New_York:20270429T190000
DTSTAMP:20260425T112319
CREATED:20260422T181413Z
LAST-MODIFIED:20260422T181432Z
UID:10000344-1809018900-1809025200@www.eagleridgegolfnc.com
SUMMARY:John Deere League
DESCRIPTION:
URL:https://www.eagleridgegolfnc.com/event/john-deere-league/2027-04-29/
END:VEVENT
BEGIN:VEVENT
DTSTART;VALUE=DATE:20270503
DTEND;VALUE=DATE:20270504
DTSTAMP:20260425T112319
CREATED:20250529T222619Z
LAST-MODIFIED:20250529T222656Z
UID:10000113-1809302400-1809388799@www.eagleridgegolfnc.com
SUMMARY:Member Monday
DESCRIPTION:
URL:https://www.eagleridgegolfnc.com/event/member-monday-3/2027-05-03/
END:VEVENT
BEGIN:VEVENT
DTSTART;TZID=America/New_York:20270506T171500
DTEND;TZID=America/New_York:20270506T190000
DTSTAMP:20260425T112319
CREATED:20260422T181413Z
LAST-MODIFIED:20260422T181432Z
UID:10000345-1809623700-1809630000@www.eagleridgegolfnc.com
SUMMARY:John Deere League
DESCRIPTION:
URL:https://www.eagleridgegolfnc.com/event/john-deere-league/2027-05-06/
END:VEVENT
BEGIN:VEVENT
DTSTART;VALUE=DATE:20270510
DTEND;VALUE=DATE:20270511
DTSTAMP:20260425T112319
CREATED:20250529T222619Z
LAST-MODIFIED:20250529T222656Z
UID:10000114-1809907200-1809993599@www.eagleridgegolfnc.com
SUMMARY:Member Monday
DESCRIPTION:
URL:https://www.eagleridgegolfnc.com/event/member-monday-3/2027-05-10/
END:VEVENT
BEGIN:VEVENT
DTSTART;TZID=America/New_York:20270513T171500
DTEND;TZID=America/New_York:20270513T190000
DTSTAMP:20260425T112319
CREATED:20260422T181413Z
LAST-MODIFIED:20260422T181432Z
UID:10000346-1810228500-1810234800@www.eagleridgegolfnc.com
SUMMARY:John Deere League
DESCRIPTION:
URL:https://www.eagleridgegolfnc.com/event/john-deere-league/2027-05-13/
END:VEVENT
BEGIN:VEVENT
DTSTART;VALUE=DATE:20270517
DTEND;VALUE=DATE:20270518
DTSTAMP:20260425T112319
CREATED:20250529T222619Z
LAST-MODIFIED:20250529T222656Z
UID:10000115-1810512000-1810598399@www.eagleridgegolfnc.com
SUMMARY:Member Monday
DESCRIPTION:
URL:https://www.eagleridgegolfnc.com/event/member-monday-3/2027-05-17/
END:VEVENT
BEGIN:VEVENT
DTSTART;TZID=America/New_York:20270520T171500
DTEND;TZID=America/New_York:20270520T190000
DTSTAMP:20260425T112319
CREATED:20260422T181413Z
LAST-MODIFIED:20260422T181432Z
UID:10000347-1810833300-1810839600@www.eagleridgegolfnc.com
SUMMARY:John Deere League
DESCRIPTION:
URL:https://www.eagleridgegolfnc.com/event/john-deere-league/2027-05-20/
END:VEVENT
BEGIN:VEVENT
DTSTART;VALUE=DATE:20270524
DTEND;VALUE=DATE:20270525
DTSTAMP:20260425T112319
CREATED:20250529T222619Z
LAST-MODIFIED:20250529T222656Z
UID:10000116-1811116800-1811203199@www.eagleridgegolfnc.com
SUMMARY:Member Monday
DESCRIPTION:
URL:https://www.eagleridgegolfnc.com/event/member-monday-3/2027-05-24/
END:VEVENT
BEGIN:VEVENT
DTSTART;VALUE=DATE:20270531
DTEND;VALUE=DATE:20270601
DTSTAMP:20260425T112319
CREATED:20250529T222619Z
LAST-MODIFIED:20250529T222656Z
UID:10000117-1811721600-1811807999@www.eagleridgegolfnc.com
SUMMARY:Member Monday
DESCRIPTION:
URL:https://www.eagleridgegolfnc.com/event/member-monday-3/2027-05-31/
END:VEVENT
BEGIN:VEVENT
DTSTART;VALUE=DATE:20270607
DTEND;VALUE=DATE:20270608
DTSTAMP:20260425T112319
CREATED:20250529T222619Z
LAST-MODIFIED:20250529T222656Z
UID:10000118-1812326400-1812412799@www.eagleridgegolfnc.com
SUMMARY:Member Monday
DESCRIPTION:
URL:https://www.eagleridgegolfnc.com/event/member-monday-3/2027-06-07/
END:VEVENT
BEGIN:VEVENT
DTSTART;VALUE=DATE:20270614
DTEND;VALUE=DATE:20270615
DTSTAMP:20260425T112319
CREATED:20250529T222619Z
LAST-MODIFIED:20250529T222656Z
UID:10000119-1812931200-1813017599@www.eagleridgegolfnc.com
SUMMARY:Member Monday
DESCRIPTION:
URL:https://www.eagleridgegolfnc.com/event/member-monday-3/2027-06-14/
END:VEVENT
BEGIN:VEVENT
DTSTART;VALUE=DATE:20270621
DTEND;VALUE=DATE:20270622
DTSTAMP:20260425T112319
CREATED:20250529T222619Z
LAST-MODIFIED:20250529T222656Z
UID:10000120-1813536000-1813622399@www.eagleridgegolfnc.com
SUMMARY:Member Monday
DESCRIPTION:
URL:https://www.eagleridgegolfnc.com/event/member-monday-3/2027-06-21/
END:VEVENT
BEGIN:VEVENT
DTSTART;VALUE=DATE:20270628
DTEND;VALUE=DATE:20270629
DTSTAMP:20260425T112319
CREATED:20250529T222619Z
LAST-MODIFIED:20250529T222656Z
UID:10000121-1814140800-1814227199@www.eagleridgegolfnc.com
SUMMARY:Member Monday
DESCRIPTION:
URL:https://www.eagleridgegolfnc.com/event/member-monday-3/2027-06-28/
END:VEVENT
BEGIN:VEVENT
DTSTART;VALUE=DATE:20270705
DTEND;VALUE=DATE:20270706
DTSTAMP:20260425T112319
CREATED:20250529T222619Z
LAST-MODIFIED:20250529T222656Z
UID:10000122-1814745600-1814831999@www.eagleridgegolfnc.com
SUMMARY:Member Monday
DESCRIPTION:
URL:https://www.eagleridgegolfnc.com/event/member-monday-3/2027-07-05/
END:VEVENT
BEGIN:VEVENT
DTSTART;VALUE=DATE:20270712
DTEND;VALUE=DATE:20270713
DTSTAMP:20260425T112319
CREATED:20250529T222619Z
LAST-MODIFIED:20250529T222656Z
UID:10000123-1815350400-1815436799@www.eagleridgegolfnc.com
SUMMARY:Member Monday
DESCRIPTION:
URL:https://www.eagleridgegolfnc.com/event/member-monday-3/2027-07-12/
END:VEVENT
BEGIN:VEVENT
DTSTART;VALUE=DATE:20270719
DTEND;VALUE=DATE:20270720
DTSTAMP:20260425T112319
CREATED:20250529T222619Z
LAST-MODIFIED:20250529T222656Z
UID:10000124-1815955200-1816041599@www.eagleridgegolfnc.com
SUMMARY:Member Monday
DESCRIPTION:
URL:https://www.eagleridgegolfnc.com/event/member-monday-3/2027-07-19/
END:VEVENT
BEGIN:VEVENT
DTSTART;VALUE=DATE:20270726
DTEND;VALUE=DATE:20270727
DTSTAMP:20260425T112319
CREATED:20250529T222619Z
LAST-MODIFIED:20250529T222656Z
UID:10000125-1816560000-1816646399@www.eagleridgegolfnc.com
SUMMARY:Member Monday
DESCRIPTION:
URL:https://www.eagleridgegolfnc.com/event/member-monday-3/2027-07-26/
END:VEVENT
BEGIN:VEVENT
DTSTART;VALUE=DATE:20270802
DTEND;VALUE=DATE:20270803
DTSTAMP:20260425T112319
CREATED:20250529T222619Z
LAST-MODIFIED:20250529T222656Z
UID:10000126-1817164800-1817251199@www.eagleridgegolfnc.com
SUMMARY:Member Monday
DESCRIPTION:
URL:https://www.eagleridgegolfnc.com/event/member-monday-3/2027-08-02/
END:VEVENT
BEGIN:VEVENT
DTSTART;VALUE=DATE:20270809
DTEND;VALUE=DATE:20270810
DTSTAMP:20260425T112319
CREATED:20250529T222619Z
LAST-MODIFIED:20250529T222656Z
UID:10000127-1817769600-1817855999@www.eagleridgegolfnc.com
SUMMARY:Member Monday
DESCRIPTION:
URL:https://www.eagleridgegolfnc.com/event/member-monday-3/2027-08-09/
END:VEVENT
BEGIN:VEVENT
DTSTART;VALUE=DATE:20270816
DTEND;VALUE=DATE:20270817
DTSTAMP:20260425T112319
CREATED:20250529T222619Z
LAST-MODIFIED:20250529T222656Z
UID:10000128-1818374400-1818460799@www.eagleridgegolfnc.com
SUMMARY:Member Monday
DESCRIPTION:
URL:https://www.eagleridgegolfnc.com/event/member-monday-3/2027-08-16/
END:VEVENT
BEGIN:VEVENT
DTSTART;VALUE=DATE:20270823
DTEND;VALUE=DATE:20270824
DTSTAMP:20260425T112319
CREATED:20250529T222619Z
LAST-MODIFIED:20250529T222656Z
UID:10000129-1818979200-1819065599@www.eagleridgegolfnc.com
SUMMARY:Member Monday
DESCRIPTION:
URL:https://www.eagleridgegolfnc.com/event/member-monday-3/2027-08-23/
END:VEVENT
BEGIN:VEVENT
DTSTART;VALUE=DATE:20270830
DTEND;VALUE=DATE:20270831
DTSTAMP:20260425T112319
CREATED:20250529T222619Z
LAST-MODIFIED:20250529T222656Z
UID:10000130-1819584000-1819670399@www.eagleridgegolfnc.com
SUMMARY:Member Monday
DESCRIPTION:
URL:https://www.eagleridgegolfnc.com/event/member-monday-3/2027-08-30/
END:VEVENT
BEGIN:VEVENT
DTSTART;VALUE=DATE:20270906
DTEND;VALUE=DATE:20270907
DTSTAMP:20260425T112319
CREATED:20250529T222619Z
LAST-MODIFIED:20250529T222656Z
UID:10000131-1820188800-1820275199@www.eagleridgegolfnc.com
SUMMARY:Member Monday
DESCRIPTION:
URL:https://www.eagleridgegolfnc.com/event/member-monday-3/2027-09-06/
END:VEVENT
END:VCALENDAR