BEGIN:VCALENDAR
VERSION:2.0
PRODID:-//Eagle Ridge Golf Club - ECPv6.15.18//NONSGML v1.0//EN
CALSCALE:GREGORIAN
METHOD:PUBLISH
X-ORIGINAL-URL:https://www.eagleridgegolfnc.com
X-WR-CALDESC:Events for Eagle Ridge Golf Club
REFRESH-INTERVAL;VALUE=DURATION:PT1H
X-Robots-Tag:noindex
X-PUBLISHED-TTL:PT1H
BEGIN:VTIMEZONE
TZID:UTC
BEGIN:STANDARD
TZOFFSETFROM:+0000
TZOFFSETTO:+0000
TZNAME:UTC
DTSTART:20240101T000000
END:STANDARD
END:VTIMEZONE
BEGIN:VTIMEZONE
TZID:America/New_York
BEGIN:DAYLIGHT
TZOFFSETFROM:-0500
TZOFFSETTO:-0400
TZNAME:EDT
DTSTART:20240310T070000
END:DAYLIGHT
BEGIN:STANDARD
TZOFFSETFROM:-0400
TZOFFSETTO:-0500
TZNAME:EST
DTSTART:20241103T060000
END:STANDARD
BEGIN:DAYLIGHT
TZOFFSETFROM:-0500
TZOFFSETTO:-0400
TZNAME:EDT
DTSTART:20250309T070000
END:DAYLIGHT
BEGIN:STANDARD
TZOFFSETFROM:-0400
TZOFFSETTO:-0500
TZNAME:EST
DTSTART:20251102T060000
END:STANDARD
BEGIN:DAYLIGHT
TZOFFSETFROM:-0500
TZOFFSETTO:-0400
TZNAME:EDT
DTSTART:20260308T070000
END:DAYLIGHT
BEGIN:STANDARD
TZOFFSETFROM:-0400
TZOFFSETTO:-0500
TZNAME:EST
DTSTART:20261101T060000
END:STANDARD
END:VTIMEZONE
BEGIN:VEVENT
DTSTART;VALUE=DATE:20251110
DTEND;VALUE=DATE:20251111
DTSTAMP:20260419T081710
CREATED:20250529T222619Z
LAST-MODIFIED:20250529T222656Z
UID:10000036-1762732800-1762819199@www.eagleridgegolfnc.com
SUMMARY:Member Monday
DESCRIPTION:
URL:https://www.eagleridgegolfnc.com/event/member-monday-3/2025-11-10/
END:VEVENT
BEGIN:VEVENT
DTSTART;VALUE=DATE:20251103
DTEND;VALUE=DATE:20251104
DTSTAMP:20260419T081710
CREATED:20250529T222619Z
LAST-MODIFIED:20250529T222656Z
UID:10000035-1762128000-1762214399@www.eagleridgegolfnc.com
SUMMARY:Member Monday
DESCRIPTION:
URL:https://www.eagleridgegolfnc.com/event/member-monday-3/2025-11-03/
END:VEVENT
BEGIN:VEVENT
DTSTART;TZID=America/New_York:20251031T090000
DTEND;TZID=America/New_York:20251031T120000
DTSTAMP:20260419T081710
CREATED:20251030T155407Z
LAST-MODIFIED:20251030T155413Z
UID:10000281-1761901200-1761912000@www.eagleridgegolfnc.com
SUMMARY:NCSU Homecoming Weekend Outing
DESCRIPTION:
URL:https://www.eagleridgegolfnc.com/event/ncsu-homecoming-weekend-outing/
END:VEVENT
BEGIN:VEVENT
DTSTART;VALUE=DATE:20251027
DTEND;VALUE=DATE:20251028
DTSTAMP:20260419T081710
CREATED:20250529T222619Z
LAST-MODIFIED:20250529T222656Z
UID:10000034-1761523200-1761609599@www.eagleridgegolfnc.com
SUMMARY:Member Monday
DESCRIPTION:
URL:https://www.eagleridgegolfnc.com/event/member-monday-3/2025-10-27/
END:VEVENT
BEGIN:VEVENT
DTSTART;TZID=America/New_York:20251024T130000
DTEND;TZID=America/New_York:20251024T150000
DTSTAMP:20260419T081710
CREATED:20250922T150526Z
LAST-MODIFIED:20250922T150526Z
UID:10000279-1761310800-1761318000@www.eagleridgegolfnc.com
SUMMARY:Knights of Columbus Outing
DESCRIPTION:
URL:https://www.eagleridgegolfnc.com/event/knights-of-columbus-outing/
END:VEVENT
BEGIN:VEVENT
DTSTART;VALUE=DATE:20251020
DTEND;VALUE=DATE:20251021
DTSTAMP:20260419T081710
CREATED:20250529T222619Z
LAST-MODIFIED:20250529T222656Z
UID:10000033-1760918400-1761004799@www.eagleridgegolfnc.com
SUMMARY:Member Monday
DESCRIPTION:
URL:https://www.eagleridgegolfnc.com/event/member-monday-3/2025-10-20/
END:VEVENT
BEGIN:VEVENT
DTSTART;VALUE=DATE:20251013
DTEND;VALUE=DATE:20251014
DTSTAMP:20260419T081710
CREATED:20250529T222619Z
LAST-MODIFIED:20250529T222656Z
UID:10000032-1760313600-1760399999@www.eagleridgegolfnc.com
SUMMARY:Member Monday
DESCRIPTION:
URL:https://www.eagleridgegolfnc.com/event/member-monday-3/2025-10-13/
END:VEVENT
BEGIN:VEVENT
DTSTART;TZID=America/New_York:20251010T090000
DTEND;TZID=America/New_York:20251010T120000
DTSTAMP:20260419T081710
CREATED:20250922T150450Z
LAST-MODIFIED:20250922T150450Z
UID:10000278-1760086800-1760097600@www.eagleridgegolfnc.com
SUMMARY:Golfing with The Wolves Outing
DESCRIPTION:
URL:https://www.eagleridgegolfnc.com/event/golfing-with-the-wolves-outing/
END:VEVENT
BEGIN:VEVENT
DTSTART;TZID=America/New_York:20251007T150000
DTEND;TZID=America/New_York:20251007T170000
DTSTAMP:20260419T081710
CREATED:20250922T150416Z
LAST-MODIFIED:20250922T150416Z
UID:10000277-1759849200-1759856400@www.eagleridgegolfnc.com
SUMMARY:Middle Creek HS Match
DESCRIPTION:
URL:https://www.eagleridgegolfnc.com/event/middle-creek-hs-match/
END:VEVENT
BEGIN:VEVENT
DTSTART;VALUE=DATE:20251006
DTEND;VALUE=DATE:20251007
DTSTAMP:20260419T081710
CREATED:20250529T222619Z
LAST-MODIFIED:20250529T222656Z
UID:10000031-1759708800-1759795199@www.eagleridgegolfnc.com
SUMMARY:Member Monday
DESCRIPTION:
URL:https://www.eagleridgegolfnc.com/event/member-monday-3/2025-10-06/
END:VEVENT
BEGIN:VEVENT
DTSTART;TZID=America/New_York:20251002T090000
DTEND;TZID=America/New_York:20251002T120000
DTSTAMP:20260419T081710
CREATED:20250922T150340Z
LAST-MODIFIED:20250922T150340Z
UID:10000276-1759395600-1759406400@www.eagleridgegolfnc.com
SUMMARY:Swing Fore Skylar Outing
DESCRIPTION:
URL:https://www.eagleridgegolfnc.com/event/swing-fore-skylar-outing/
END:VEVENT
BEGIN:VEVENT
DTSTART;VALUE=DATE:20250929
DTEND;VALUE=DATE:20250930
DTSTAMP:20260419T081710
CREATED:20250529T222619Z
LAST-MODIFIED:20250529T222656Z
UID:10000030-1759104000-1759190399@www.eagleridgegolfnc.com
SUMMARY:Member Monday
DESCRIPTION:
URL:https://www.eagleridgegolfnc.com/event/member-monday-3/2025-09-29/
END:VEVENT
BEGIN:VEVENT
DTSTART;VALUE=DATE:20250922
DTEND;VALUE=DATE:20250923
DTSTAMP:20260419T081710
CREATED:20250529T222619Z
LAST-MODIFIED:20250529T222656Z
UID:10000029-1758499200-1758585599@www.eagleridgegolfnc.com
SUMMARY:Member Monday
DESCRIPTION:
URL:https://www.eagleridgegolfnc.com/event/member-monday-3/2025-09-22/
END:VEVENT
BEGIN:VEVENT
DTSTART;VALUE=DATE:20250915
DTEND;VALUE=DATE:20250916
DTSTAMP:20260419T081710
CREATED:20250529T222619Z
LAST-MODIFIED:20250529T222656Z
UID:10000028-1757894400-1757980799@www.eagleridgegolfnc.com
SUMMARY:Member Monday
DESCRIPTION:
URL:https://www.eagleridgegolfnc.com/event/member-monday-3/2025-09-15/
END:VEVENT
BEGIN:VEVENT
DTSTART;VALUE=DATE:20250908
DTEND;VALUE=DATE:20250909
DTSTAMP:20260419T081710
CREATED:20250529T222619Z
LAST-MODIFIED:20250529T222656Z
UID:10000027-1757289600-1757375999@www.eagleridgegolfnc.com
SUMMARY:Member Monday
DESCRIPTION:
URL:https://www.eagleridgegolfnc.com/event/member-monday-3/2025-09-08/
END:VEVENT
BEGIN:VEVENT
DTSTART;VALUE=DATE:20250901
DTEND;VALUE=DATE:20250902
DTSTAMP:20260419T081710
CREATED:20250529T222619Z
LAST-MODIFIED:20250529T222656Z
UID:10000026-1756684800-1756771199@www.eagleridgegolfnc.com
SUMMARY:Member Monday
DESCRIPTION:
URL:https://www.eagleridgegolfnc.com/event/member-monday-3/2025-09-01/
END:VEVENT
BEGIN:VEVENT
DTSTART;VALUE=DATE:20250825
DTEND;VALUE=DATE:20250826
DTSTAMP:20260419T081710
CREATED:20250529T222619Z
LAST-MODIFIED:20250529T222656Z
UID:10000025-1756080000-1756166399@www.eagleridgegolfnc.com
SUMMARY:Member Monday
DESCRIPTION:
URL:https://www.eagleridgegolfnc.com/event/member-monday-3/2025-08-25/
END:VEVENT
BEGIN:VEVENT
DTSTART;VALUE=DATE:20250822
DTEND;VALUE=DATE:20250823
DTSTAMP:20260419T081710
CREATED:20250529T222859Z
LAST-MODIFIED:20250529T222944Z
UID:10000275-1755820800-1755907199@www.eagleridgegolfnc.com
SUMMARY:QUE Tour Outing
DESCRIPTION:
URL:https://www.eagleridgegolfnc.com/event/que-tour-outing/
END:VEVENT
BEGIN:VEVENT
DTSTART;VALUE=DATE:20250818
DTEND;VALUE=DATE:20250819
DTSTAMP:20260419T081710
CREATED:20250529T222619Z
LAST-MODIFIED:20250529T222656Z
UID:10000024-1755475200-1755561599@www.eagleridgegolfnc.com
SUMMARY:Member Monday
DESCRIPTION:
URL:https://www.eagleridgegolfnc.com/event/member-monday-3/2025-08-18/
END:VEVENT
BEGIN:VEVENT
DTSTART;TZID=UTC:20250814T093000
DTEND;TZID=UTC:20250814T120000
DTSTAMP:20260419T081710
CREATED:20250529T222821Z
LAST-MODIFIED:20250529T222821Z
UID:10000274-1755163800-1755172800@www.eagleridgegolfnc.com
SUMMARY:Carolina Preserve Seniors
DESCRIPTION:
URL:https://www.eagleridgegolfnc.com/event/carolina-preserve-seniors/
END:VEVENT
BEGIN:VEVENT
DTSTART;VALUE=DATE:20250811
DTEND;VALUE=DATE:20250812
DTSTAMP:20260419T081710
CREATED:20250529T222619Z
LAST-MODIFIED:20250529T222656Z
UID:10000023-1754870400-1754956799@www.eagleridgegolfnc.com
SUMMARY:Member Monday
DESCRIPTION:
URL:https://www.eagleridgegolfnc.com/event/member-monday-3/2025-08-11/
END:VEVENT
BEGIN:VEVENT
DTSTART;VALUE=DATE:20250804
DTEND;VALUE=DATE:20250805
DTSTAMP:20260419T081710
CREATED:20250529T222619Z
LAST-MODIFIED:20250529T222656Z
UID:10000022-1754265600-1754351999@www.eagleridgegolfnc.com
SUMMARY:Member Monday
DESCRIPTION:
URL:https://www.eagleridgegolfnc.com/event/member-monday-3/2025-08-04/
END:VEVENT
BEGIN:VEVENT
DTSTART;VALUE=DATE:20250728
DTEND;VALUE=DATE:20250729
DTSTAMP:20260419T081710
CREATED:20250529T222619Z
LAST-MODIFIED:20250529T222656Z
UID:10000021-1753660800-1753747199@www.eagleridgegolfnc.com
SUMMARY:Member Monday
DESCRIPTION:
URL:https://www.eagleridgegolfnc.com/event/member-monday-3/2025-07-28/
END:VEVENT
BEGIN:VEVENT
DTSTART;TZID=UTC:20250723T090000
DTEND;TZID=UTC:20250723T110000
DTSTAMP:20260419T081710
CREATED:20250529T222541Z
LAST-MODIFIED:20250529T222541Z
UID:10000017-1753261200-1753268400@www.eagleridgegolfnc.com
SUMMARY:NITOR Solutions Outing
DESCRIPTION:
URL:https://www.eagleridgegolfnc.com/event/nitor-solutions-outing/
END:VEVENT
BEGIN:VEVENT
DTSTART;VALUE=DATE:20250721
DTEND;VALUE=DATE:20250726
DTSTAMP:20260419T081710
CREATED:20250529T222458Z
LAST-MODIFIED:20250529T222511Z
UID:10000016-1753056000-1753487999@www.eagleridgegolfnc.com
SUMMARY:PGA Junior Camp
DESCRIPTION:
URL:https://www.eagleridgegolfnc.com/event/pga-junior-camp/
END:VEVENT
BEGIN:VEVENT
DTSTART;VALUE=DATE:20250721
DTEND;VALUE=DATE:20250722
DTSTAMP:20260419T081710
CREATED:20250529T222619Z
LAST-MODIFIED:20250529T222656Z
UID:10000020-1753056000-1753142399@www.eagleridgegolfnc.com
SUMMARY:Member Monday
DESCRIPTION:
URL:https://www.eagleridgegolfnc.com/event/member-monday-3/2025-07-21/
END:VEVENT
BEGIN:VEVENT
DTSTART;VALUE=DATE:20250715
DTEND;VALUE=DATE:20250716
DTSTAMP:20260419T081710
CREATED:20250529T222410Z
LAST-MODIFIED:20250529T222410Z
UID:10000015-1752537600-1752623999@www.eagleridgegolfnc.com
SUMMARY:US Kids Junior Tour
DESCRIPTION:
URL:https://www.eagleridgegolfnc.com/event/us-kids-junior-tour/
END:VEVENT
BEGIN:VEVENT
DTSTART;VALUE=DATE:20250714
DTEND;VALUE=DATE:20250715
DTSTAMP:20260419T081710
CREATED:20250529T222619Z
LAST-MODIFIED:20250529T222656Z
UID:10000019-1752451200-1752537599@www.eagleridgegolfnc.com
SUMMARY:Member Monday
DESCRIPTION:
URL:https://www.eagleridgegolfnc.com/event/member-monday-3/2025-07-14/
END:VEVENT
BEGIN:VEVENT
DTSTART;VALUE=DATE:20250707
DTEND;VALUE=DATE:20250709
DTSTAMP:20260419T081710
CREATED:20250529T222225Z
LAST-MODIFIED:20250529T222311Z
UID:10000014-1751846400-1752019199@www.eagleridgegolfnc.com
SUMMARY:Greens Aerification
DESCRIPTION:
URL:https://www.eagleridgegolfnc.com/event/greens-aerification/
END:VEVENT
BEGIN:VEVENT
DTSTART;VALUE=DATE:20250707
DTEND;VALUE=DATE:20250708
DTSTAMP:20260419T081710
CREATED:20250529T222619Z
LAST-MODIFIED:20250529T222656Z
UID:10000018-1751846400-1751932799@www.eagleridgegolfnc.com
SUMMARY:Member Monday
DESCRIPTION:
URL:https://www.eagleridgegolfnc.com/event/member-monday-3/2025-07-07/
END:VEVENT
END:VCALENDAR