BEGIN:VCALENDAR
VERSION:2.0
PRODID:-//Eagle Ridge Golf Club - ECPv6.15.18//NONSGML v1.0//EN
CALSCALE:GREGORIAN
METHOD:PUBLISH
X-WR-CALNAME:Eagle Ridge Golf Club
X-ORIGINAL-URL:https://www.eagleridgegolfnc.com
X-WR-CALDESC:Events for Eagle Ridge Golf Club
REFRESH-INTERVAL;VALUE=DURATION:PT1H
X-Robots-Tag:noindex
X-PUBLISHED-TTL:PT1H
BEGIN:VTIMEZONE
TZID:America/New_York
BEGIN:DAYLIGHT
TZOFFSETFROM:-0500
TZOFFSETTO:-0400
TZNAME:EDT
DTSTART:20250309T070000
END:DAYLIGHT
BEGIN:STANDARD
TZOFFSETFROM:-0400
TZOFFSETTO:-0500
TZNAME:EST
DTSTART:20251102T060000
END:STANDARD
BEGIN:DAYLIGHT
TZOFFSETFROM:-0500
TZOFFSETTO:-0400
TZNAME:EDT
DTSTART:20260308T070000
END:DAYLIGHT
BEGIN:STANDARD
TZOFFSETFROM:-0400
TZOFFSETTO:-0500
TZNAME:EST
DTSTART:20261101T060000
END:STANDARD
BEGIN:DAYLIGHT
TZOFFSETFROM:-0500
TZOFFSETTO:-0400
TZNAME:EDT
DTSTART:20270314T070000
END:DAYLIGHT
BEGIN:STANDARD
TZOFFSETFROM:-0400
TZOFFSETTO:-0500
TZNAME:EST
DTSTART:20271107T060000
END:STANDARD
END:VTIMEZONE
BEGIN:VTIMEZONE
TZID:UTC
BEGIN:STANDARD
TZOFFSETFROM:+0000
TZOFFSETTO:+0000
TZNAME:UTC
DTSTART:20250101T000000
END:STANDARD
END:VTIMEZONE
BEGIN:VEVENT
DTSTART;TZID=America/New_York:20260514T130000
DTEND;TZID=America/New_York:20260514T170000
DTSTAMP:20260423T074450
CREATED:20260422T181035Z
LAST-MODIFIED:20260422T181035Z
UID:10000288-1778763600-1778778000@www.eagleridgegolfnc.com
SUMMARY:PING Demo Day
DESCRIPTION:
URL:https://www.eagleridgegolfnc.com/event/ping-demo-day/
END:VEVENT
BEGIN:VEVENT
DTSTART;TZID=America/New_York:20260514T171500
DTEND;TZID=America/New_York:20260514T190000
DTSTAMP:20260423T074450
CREATED:20260422T181413Z
LAST-MODIFIED:20260422T181432Z
UID:10000294-1778778900-1778785200@www.eagleridgegolfnc.com
SUMMARY:John Deere League
DESCRIPTION:
URL:https://www.eagleridgegolfnc.com/event/john-deere-league/2026-05-14/
END:VEVENT
BEGIN:VEVENT
DTSTART;VALUE=DATE:20260518
DTEND;VALUE=DATE:20260519
DTSTAMP:20260423T074450
CREATED:20250529T222619Z
LAST-MODIFIED:20250529T222656Z
UID:10000063-1779062400-1779148799@www.eagleridgegolfnc.com
SUMMARY:Member Monday
DESCRIPTION:
URL:https://www.eagleridgegolfnc.com/event/member-monday-3/2026-05-18/
END:VEVENT
BEGIN:VEVENT
DTSTART;TZID=America/New_York:20260521T171500
DTEND;TZID=America/New_York:20260521T190000
DTSTAMP:20260423T074450
CREATED:20260422T181413Z
LAST-MODIFIED:20260422T181432Z
UID:10000295-1779383700-1779390000@www.eagleridgegolfnc.com
SUMMARY:John Deere League
DESCRIPTION:
URL:https://www.eagleridgegolfnc.com/event/john-deere-league/2026-05-21/
END:VEVENT
BEGIN:VEVENT
DTSTART;TZID=America/New_York:20260522T090000
DTEND;TZID=America/New_York:20260522T130000
DTSTAMP:20260423T074450
CREATED:20260422T181123Z
LAST-MODIFIED:20260422T181123Z
UID:10000289-1779440400-1779454800@www.eagleridgegolfnc.com
SUMMARY:Titus Strong Outing
DESCRIPTION:
URL:https://www.eagleridgegolfnc.com/event/titus-strong-outing/
END:VEVENT
BEGIN:VEVENT
DTSTART;VALUE=DATE:20260525
DTEND;VALUE=DATE:20260526
DTSTAMP:20260423T074450
CREATED:20250529T222619Z
LAST-MODIFIED:20250529T222656Z
UID:10000064-1779667200-1779753599@www.eagleridgegolfnc.com
SUMMARY:Member Monday
DESCRIPTION:
URL:https://www.eagleridgegolfnc.com/event/member-monday-3/2026-05-25/
END:VEVENT
BEGIN:VEVENT
DTSTART;VALUE=DATE:20260525
DTEND;VALUE=DATE:20260526
DTSTAMP:20260423T074450
CREATED:20260422T181152Z
LAST-MODIFIED:20260422T181152Z
UID:10000290-1779667200-1779753599@www.eagleridgegolfnc.com
SUMMARY:Memorial Day Holiday
DESCRIPTION:
URL:https://www.eagleridgegolfnc.com/event/memorial-day-holiday-2/
END:VEVENT
BEGIN:VEVENT
DTSTART;TZID=America/New_York:20260527T090000
DTEND;TZID=America/New_York:20260527T130000
DTSTAMP:20260423T074450
CREATED:20260422T181226Z
LAST-MODIFIED:20260422T181226Z
UID:10000291-1779872400-1779886800@www.eagleridgegolfnc.com
SUMMARY:CGA AM Qualifier
DESCRIPTION:
URL:https://www.eagleridgegolfnc.com/event/cga-am-qualifier/
END:VEVENT
BEGIN:VEVENT
DTSTART;TZID=America/New_York:20260528T171500
DTEND;TZID=America/New_York:20260528T190000
DTSTAMP:20260423T074450
CREATED:20260422T181413Z
LAST-MODIFIED:20260422T181432Z
UID:10000296-1779988500-1779994800@www.eagleridgegolfnc.com
SUMMARY:John Deere League
DESCRIPTION:
URL:https://www.eagleridgegolfnc.com/event/john-deere-league/2026-05-28/
END:VEVENT
BEGIN:VEVENT
DTSTART;TZID=America/New_York:20260530T130000
DTEND;TZID=America/New_York:20260530T170000
DTSTAMP:20260423T074450
CREATED:20260422T181256Z
LAST-MODIFIED:20260422T181256Z
UID:10000292-1780146000-1780160400@www.eagleridgegolfnc.com
SUMMARY:Korean Church Outing
DESCRIPTION:
URL:https://www.eagleridgegolfnc.com/event/korean-church-outing/
END:VEVENT
BEGIN:VEVENT
DTSTART;VALUE=DATE:20260601
DTEND;VALUE=DATE:20260602
DTSTAMP:20260423T074450
CREATED:20250529T222619Z
LAST-MODIFIED:20250529T222656Z
UID:10000065-1780272000-1780358399@www.eagleridgegolfnc.com
SUMMARY:Member Monday
DESCRIPTION:
URL:https://www.eagleridgegolfnc.com/event/member-monday-3/2026-06-01/
END:VEVENT
BEGIN:VEVENT
DTSTART;TZID=America/New_York:20260604T171500
DTEND;TZID=America/New_York:20260604T190000
DTSTAMP:20260423T074450
CREATED:20260422T181413Z
LAST-MODIFIED:20260422T181432Z
UID:10000297-1780593300-1780599600@www.eagleridgegolfnc.com
SUMMARY:John Deere League
DESCRIPTION:
URL:https://www.eagleridgegolfnc.com/event/john-deere-league/2026-06-04/
END:VEVENT
BEGIN:VEVENT
DTSTART;TZID=America/New_York:20260605T120000
DTEND;TZID=America/New_York:20260605T160000
DTSTAMP:20260423T074450
CREATED:20260422T181648Z
LAST-MODIFIED:20260422T181648Z
UID:10000348-1780660800-1780675200@www.eagleridgegolfnc.com
SUMMARY:Bet MGM Outing
DESCRIPTION:
URL:https://www.eagleridgegolfnc.com/event/bet-mgm-outing/
END:VEVENT
BEGIN:VEVENT
DTSTART;VALUE=DATE:20260608
DTEND;VALUE=DATE:20260609
DTSTAMP:20260423T074450
CREATED:20250529T222619Z
LAST-MODIFIED:20250529T222656Z
UID:10000066-1780876800-1780963199@www.eagleridgegolfnc.com
SUMMARY:Member Monday
DESCRIPTION:
URL:https://www.eagleridgegolfnc.com/event/member-monday-3/2026-06-08/
END:VEVENT
BEGIN:VEVENT
DTSTART;TZID=America/New_York:20260611T171500
DTEND;TZID=America/New_York:20260611T190000
DTSTAMP:20260423T074450
CREATED:20260422T181413Z
LAST-MODIFIED:20260422T181432Z
UID:10000298-1781198100-1781204400@www.eagleridgegolfnc.com
SUMMARY:John Deere League
DESCRIPTION:
URL:https://www.eagleridgegolfnc.com/event/john-deere-league/2026-06-11/
END:VEVENT
BEGIN:VEVENT
DTSTART;TZID=America/New_York:20260614T090000
DTEND;TZID=America/New_York:20260614T130000
DTSTAMP:20260423T074450
CREATED:20260422T181722Z
LAST-MODIFIED:20260422T181722Z
UID:10000349-1781427600-1781442000@www.eagleridgegolfnc.com
SUMMARY:FSC Simmental Member/Guest
DESCRIPTION:
URL:https://www.eagleridgegolfnc.com/event/fsc-simmental-member-guest/
END:VEVENT
BEGIN:VEVENT
DTSTART;VALUE=DATE:20260615
DTEND;VALUE=DATE:20260616
DTSTAMP:20260423T074450
CREATED:20250529T222619Z
LAST-MODIFIED:20250529T222656Z
UID:10000067-1781481600-1781567999@www.eagleridgegolfnc.com
SUMMARY:Member Monday
DESCRIPTION:
URL:https://www.eagleridgegolfnc.com/event/member-monday-3/2026-06-15/
END:VEVENT
BEGIN:VEVENT
DTSTART;TZID=America/New_York:20260615T090000
DTEND;TZID=America/New_York:20260619T130000
DTSTAMP:20260423T074450
CREATED:20260422T181808Z
LAST-MODIFIED:20260422T181808Z
UID:10000350-1781514000-1781874000@www.eagleridgegolfnc.com
SUMMARY:PGA Junior Camp
DESCRIPTION:
URL:https://www.eagleridgegolfnc.com/event/pga-junior-camp-2/
END:VEVENT
BEGIN:VEVENT
DTSTART;TZID=America/New_York:20260618T093000
DTEND;TZID=America/New_York:20260618T140000
DTSTAMP:20260423T074450
CREATED:20260422T181856Z
LAST-MODIFIED:20260422T181856Z
UID:10000351-1781775000-1781791200@www.eagleridgegolfnc.com
SUMMARY:Carolina Preserve Seniors
DESCRIPTION:
URL:https://www.eagleridgegolfnc.com/event/carolina-preserve-seniors-2/
END:VEVENT
BEGIN:VEVENT
DTSTART;TZID=America/New_York:20260618T171500
DTEND;TZID=America/New_York:20260618T190000
DTSTAMP:20260423T074450
CREATED:20260422T181413Z
LAST-MODIFIED:20260422T181432Z
UID:10000299-1781802900-1781809200@www.eagleridgegolfnc.com
SUMMARY:John Deere League
DESCRIPTION:
URL:https://www.eagleridgegolfnc.com/event/john-deere-league/2026-06-18/
END:VEVENT
BEGIN:VEVENT
DTSTART;VALUE=DATE:20260622
DTEND;VALUE=DATE:20260623
DTSTAMP:20260423T074450
CREATED:20250529T222619Z
LAST-MODIFIED:20250529T222656Z
UID:10000068-1782086400-1782172799@www.eagleridgegolfnc.com
SUMMARY:Member Monday
DESCRIPTION:
URL:https://www.eagleridgegolfnc.com/event/member-monday-3/2026-06-22/
END:VEVENT
BEGIN:VEVENT
DTSTART;TZID=America/New_York:20260622T090000
DTEND;TZID=America/New_York:20260626T140000
DTSTAMP:20260423T074450
CREATED:20260422T181937Z
LAST-MODIFIED:20260422T181937Z
UID:10000352-1782118800-1782482400@www.eagleridgegolfnc.com
SUMMARY:PGA Junior Camp
DESCRIPTION:
URL:https://www.eagleridgegolfnc.com/event/pga-junior-camp-3/
END:VEVENT
BEGIN:VEVENT
DTSTART;TZID=America/New_York:20260625T171500
DTEND;TZID=America/New_York:20260625T190000
DTSTAMP:20260423T074450
CREATED:20260422T181413Z
LAST-MODIFIED:20260422T181432Z
UID:10000300-1782407700-1782414000@www.eagleridgegolfnc.com
SUMMARY:John Deere League
DESCRIPTION:
URL:https://www.eagleridgegolfnc.com/event/john-deere-league/2026-06-25/
END:VEVENT
BEGIN:VEVENT
DTSTART;TZID=America/New_York:20260627T103000
DTEND;TZID=America/New_York:20260627T150000
DTSTAMP:20260423T074450
CREATED:20260422T182013Z
LAST-MODIFIED:20260422T182013Z
UID:10000353-1782556200-1782572400@www.eagleridgegolfnc.com
SUMMARY:Interclub vs The Neuse
DESCRIPTION:
URL:https://www.eagleridgegolfnc.com/event/interclub-vs-the-neuse/
END:VEVENT
BEGIN:VEVENT
DTSTART;VALUE=DATE:20260629
DTEND;VALUE=DATE:20260630
DTSTAMP:20260423T074450
CREATED:20250529T222619Z
LAST-MODIFIED:20250529T222656Z
UID:10000069-1782691200-1782777599@www.eagleridgegolfnc.com
SUMMARY:Member Monday
DESCRIPTION:
URL:https://www.eagleridgegolfnc.com/event/member-monday-3/2026-06-29/
END:VEVENT
BEGIN:VEVENT
DTSTART;TZID=America/New_York:20260629T090000
DTEND;TZID=America/New_York:20260629T140000
DTSTAMP:20260423T074450
CREATED:20260422T182047Z
LAST-MODIFIED:20260422T182047Z
UID:10000354-1782723600-1782741600@www.eagleridgegolfnc.com
SUMMARY:Triangle Seniors GT
DESCRIPTION:
URL:https://www.eagleridgegolfnc.com/event/triangle-seniors-gt/
END:VEVENT
BEGIN:VEVENT
DTSTART;TZID=America/New_York:20260702T171500
DTEND;TZID=America/New_York:20260702T190000
DTSTAMP:20260423T074450
CREATED:20260422T181413Z
LAST-MODIFIED:20260422T181432Z
UID:10000301-1783012500-1783018800@www.eagleridgegolfnc.com
SUMMARY:John Deere League
DESCRIPTION:
URL:https://www.eagleridgegolfnc.com/event/john-deere-league/2026-07-02/
END:VEVENT
BEGIN:VEVENT
DTSTART;VALUE=DATE:20260706
DTEND;VALUE=DATE:20260707
DTSTAMP:20260423T074450
CREATED:20250529T222619Z
LAST-MODIFIED:20250529T222656Z
UID:10000070-1783296000-1783382399@www.eagleridgegolfnc.com
SUMMARY:Member Monday
DESCRIPTION:
URL:https://www.eagleridgegolfnc.com/event/member-monday-3/2026-07-06/
END:VEVENT
BEGIN:VEVENT
DTSTART;TZID=America/New_York:20260709T171500
DTEND;TZID=America/New_York:20260709T190000
DTSTAMP:20260423T074450
CREATED:20260422T181413Z
LAST-MODIFIED:20260422T181432Z
UID:10000302-1783617300-1783623600@www.eagleridgegolfnc.com
SUMMARY:John Deere League
DESCRIPTION:
URL:https://www.eagleridgegolfnc.com/event/john-deere-league/2026-07-09/
END:VEVENT
BEGIN:VEVENT
DTSTART;VALUE=DATE:20260713
DTEND;VALUE=DATE:20260714
DTSTAMP:20260423T074450
CREATED:20250529T222619Z
LAST-MODIFIED:20250529T222656Z
UID:10000071-1783900800-1783987199@www.eagleridgegolfnc.com
SUMMARY:Member Monday
DESCRIPTION:
URL:https://www.eagleridgegolfnc.com/event/member-monday-3/2026-07-13/
END:VEVENT
END:VCALENDAR