BEGIN:VCALENDAR
VERSION:2.0
PRODID:-//Eagle Ridge Golf Club - ECPv6.15.18//NONSGML v1.0//EN
CALSCALE:GREGORIAN
METHOD:PUBLISH
X-ORIGINAL-URL:https://www.eagleridgegolfnc.com
X-WR-CALDESC:Events for Eagle Ridge Golf Club
REFRESH-INTERVAL;VALUE=DURATION:PT1H
X-Robots-Tag:noindex
X-PUBLISHED-TTL:PT1H
BEGIN:VTIMEZONE
TZID:UTC
BEGIN:STANDARD
TZOFFSETFROM:+0000
TZOFFSETTO:+0000
TZNAME:UTC
DTSTART:20280101T000000
END:STANDARD
END:VTIMEZONE
BEGIN:VEVENT
DTSTART;VALUE=DATE:20290618
DTEND;VALUE=DATE:20290619
DTSTAMP:20260420T070400
CREATED:20250529T222619Z
LAST-MODIFIED:20250529T222656Z
UID:10000224-1876435200-1876521599@www.eagleridgegolfnc.com
SUMMARY:Member Monday
DESCRIPTION:
URL:https://www.eagleridgegolfnc.com/event/member-monday-3/2029-06-18/
END:VEVENT
BEGIN:VEVENT
DTSTART;VALUE=DATE:20290625
DTEND;VALUE=DATE:20290626
DTSTAMP:20260420T070400
CREATED:20250529T222619Z
LAST-MODIFIED:20250529T222656Z
UID:10000225-1877040000-1877126399@www.eagleridgegolfnc.com
SUMMARY:Member Monday
DESCRIPTION:
URL:https://www.eagleridgegolfnc.com/event/member-monday-3/2029-06-25/
END:VEVENT
BEGIN:VEVENT
DTSTART;VALUE=DATE:20290702
DTEND;VALUE=DATE:20290703
DTSTAMP:20260420T070400
CREATED:20250529T222619Z
LAST-MODIFIED:20250529T222656Z
UID:10000226-1877644800-1877731199@www.eagleridgegolfnc.com
SUMMARY:Member Monday
DESCRIPTION:
URL:https://www.eagleridgegolfnc.com/event/member-monday-3/2029-07-02/
END:VEVENT
BEGIN:VEVENT
DTSTART;VALUE=DATE:20290709
DTEND;VALUE=DATE:20290710
DTSTAMP:20260420T070400
CREATED:20250529T222619Z
LAST-MODIFIED:20250529T222656Z
UID:10000227-1878249600-1878335999@www.eagleridgegolfnc.com
SUMMARY:Member Monday
DESCRIPTION:
URL:https://www.eagleridgegolfnc.com/event/member-monday-3/2029-07-09/
END:VEVENT
BEGIN:VEVENT
DTSTART;VALUE=DATE:20290716
DTEND;VALUE=DATE:20290717
DTSTAMP:20260420T070400
CREATED:20250529T222619Z
LAST-MODIFIED:20250529T222656Z
UID:10000228-1878854400-1878940799@www.eagleridgegolfnc.com
SUMMARY:Member Monday
DESCRIPTION:
URL:https://www.eagleridgegolfnc.com/event/member-monday-3/2029-07-16/
END:VEVENT
BEGIN:VEVENT
DTSTART;VALUE=DATE:20290723
DTEND;VALUE=DATE:20290724
DTSTAMP:20260420T070400
CREATED:20250529T222619Z
LAST-MODIFIED:20250529T222656Z
UID:10000229-1879459200-1879545599@www.eagleridgegolfnc.com
SUMMARY:Member Monday
DESCRIPTION:
URL:https://www.eagleridgegolfnc.com/event/member-monday-3/2029-07-23/
END:VEVENT
BEGIN:VEVENT
DTSTART;VALUE=DATE:20290730
DTEND;VALUE=DATE:20290731
DTSTAMP:20260420T070400
CREATED:20250529T222619Z
LAST-MODIFIED:20250529T222656Z
UID:10000230-1880064000-1880150399@www.eagleridgegolfnc.com
SUMMARY:Member Monday
DESCRIPTION:
URL:https://www.eagleridgegolfnc.com/event/member-monday-3/2029-07-30/
END:VEVENT
BEGIN:VEVENT
DTSTART;VALUE=DATE:20290806
DTEND;VALUE=DATE:20290807
DTSTAMP:20260420T070400
CREATED:20250529T222619Z
LAST-MODIFIED:20250529T222656Z
UID:10000231-1880668800-1880755199@www.eagleridgegolfnc.com
SUMMARY:Member Monday
DESCRIPTION:
URL:https://www.eagleridgegolfnc.com/event/member-monday-3/2029-08-06/
END:VEVENT
BEGIN:VEVENT
DTSTART;VALUE=DATE:20290813
DTEND;VALUE=DATE:20290814
DTSTAMP:20260420T070400
CREATED:20250529T222619Z
LAST-MODIFIED:20250529T222656Z
UID:10000232-1881273600-1881359999@www.eagleridgegolfnc.com
SUMMARY:Member Monday
DESCRIPTION:
URL:https://www.eagleridgegolfnc.com/event/member-monday-3/2029-08-13/
END:VEVENT
BEGIN:VEVENT
DTSTART;VALUE=DATE:20290820
DTEND;VALUE=DATE:20290821
DTSTAMP:20260420T070400
CREATED:20250529T222619Z
LAST-MODIFIED:20250529T222656Z
UID:10000233-1881878400-1881964799@www.eagleridgegolfnc.com
SUMMARY:Member Monday
DESCRIPTION:
URL:https://www.eagleridgegolfnc.com/event/member-monday-3/2029-08-20/
END:VEVENT
BEGIN:VEVENT
DTSTART;VALUE=DATE:20290827
DTEND;VALUE=DATE:20290828
DTSTAMP:20260420T070400
CREATED:20250529T222619Z
LAST-MODIFIED:20250529T222656Z
UID:10000234-1882483200-1882569599@www.eagleridgegolfnc.com
SUMMARY:Member Monday
DESCRIPTION:
URL:https://www.eagleridgegolfnc.com/event/member-monday-3/2029-08-27/
END:VEVENT
BEGIN:VEVENT
DTSTART;VALUE=DATE:20290903
DTEND;VALUE=DATE:20290904
DTSTAMP:20260420T070400
CREATED:20250529T222619Z
LAST-MODIFIED:20250529T222656Z
UID:10000235-1883088000-1883174399@www.eagleridgegolfnc.com
SUMMARY:Member Monday
DESCRIPTION:
URL:https://www.eagleridgegolfnc.com/event/member-monday-3/2029-09-03/
END:VEVENT
BEGIN:VEVENT
DTSTART;VALUE=DATE:20290910
DTEND;VALUE=DATE:20290911
DTSTAMP:20260420T070400
CREATED:20250529T222619Z
LAST-MODIFIED:20250529T222656Z
UID:10000236-1883692800-1883779199@www.eagleridgegolfnc.com
SUMMARY:Member Monday
DESCRIPTION:
URL:https://www.eagleridgegolfnc.com/event/member-monday-3/2029-09-10/
END:VEVENT
BEGIN:VEVENT
DTSTART;VALUE=DATE:20290917
DTEND;VALUE=DATE:20290918
DTSTAMP:20260420T070400
CREATED:20250529T222619Z
LAST-MODIFIED:20250529T222656Z
UID:10000237-1884297600-1884383999@www.eagleridgegolfnc.com
SUMMARY:Member Monday
DESCRIPTION:
URL:https://www.eagleridgegolfnc.com/event/member-monday-3/2029-09-17/
END:VEVENT
BEGIN:VEVENT
DTSTART;VALUE=DATE:20290924
DTEND;VALUE=DATE:20290925
DTSTAMP:20260420T070400
CREATED:20250529T222619Z
LAST-MODIFIED:20250529T222656Z
UID:10000238-1884902400-1884988799@www.eagleridgegolfnc.com
SUMMARY:Member Monday
DESCRIPTION:
URL:https://www.eagleridgegolfnc.com/event/member-monday-3/2029-09-24/
END:VEVENT
BEGIN:VEVENT
DTSTART;VALUE=DATE:20291001
DTEND;VALUE=DATE:20291002
DTSTAMP:20260420T070400
CREATED:20250529T222619Z
LAST-MODIFIED:20250529T222656Z
UID:10000239-1885507200-1885593599@www.eagleridgegolfnc.com
SUMMARY:Member Monday
DESCRIPTION:
URL:https://www.eagleridgegolfnc.com/event/member-monday-3/2029-10-01/
END:VEVENT
BEGIN:VEVENT
DTSTART;VALUE=DATE:20291008
DTEND;VALUE=DATE:20291009
DTSTAMP:20260420T070400
CREATED:20250529T222619Z
LAST-MODIFIED:20250529T222656Z
UID:10000240-1886112000-1886198399@www.eagleridgegolfnc.com
SUMMARY:Member Monday
DESCRIPTION:
URL:https://www.eagleridgegolfnc.com/event/member-monday-3/2029-10-08/
END:VEVENT
BEGIN:VEVENT
DTSTART;VALUE=DATE:20291015
DTEND;VALUE=DATE:20291016
DTSTAMP:20260420T070400
CREATED:20250529T222619Z
LAST-MODIFIED:20250529T222656Z
UID:10000241-1886716800-1886803199@www.eagleridgegolfnc.com
SUMMARY:Member Monday
DESCRIPTION:
URL:https://www.eagleridgegolfnc.com/event/member-monday-3/2029-10-15/
END:VEVENT
BEGIN:VEVENT
DTSTART;VALUE=DATE:20291022
DTEND;VALUE=DATE:20291023
DTSTAMP:20260420T070400
CREATED:20250529T222619Z
LAST-MODIFIED:20250529T222656Z
UID:10000242-1887321600-1887407999@www.eagleridgegolfnc.com
SUMMARY:Member Monday
DESCRIPTION:
URL:https://www.eagleridgegolfnc.com/event/member-monday-3/2029-10-22/
END:VEVENT
BEGIN:VEVENT
DTSTART;VALUE=DATE:20291029
DTEND;VALUE=DATE:20291030
DTSTAMP:20260420T070400
CREATED:20250529T222619Z
LAST-MODIFIED:20250529T222656Z
UID:10000243-1887926400-1888012799@www.eagleridgegolfnc.com
SUMMARY:Member Monday
DESCRIPTION:
URL:https://www.eagleridgegolfnc.com/event/member-monday-3/2029-10-29/
END:VEVENT
BEGIN:VEVENT
DTSTART;VALUE=DATE:20291105
DTEND;VALUE=DATE:20291106
DTSTAMP:20260420T070400
CREATED:20250529T222619Z
LAST-MODIFIED:20250529T222656Z
UID:10000244-1888531200-1888617599@www.eagleridgegolfnc.com
SUMMARY:Member Monday
DESCRIPTION:
URL:https://www.eagleridgegolfnc.com/event/member-monday-3/2029-11-05/
END:VEVENT
BEGIN:VEVENT
DTSTART;VALUE=DATE:20291112
DTEND;VALUE=DATE:20291113
DTSTAMP:20260420T070400
CREATED:20250529T222619Z
LAST-MODIFIED:20250529T222656Z
UID:10000245-1889136000-1889222399@www.eagleridgegolfnc.com
SUMMARY:Member Monday
DESCRIPTION:
URL:https://www.eagleridgegolfnc.com/event/member-monday-3/2029-11-12/
END:VEVENT
BEGIN:VEVENT
DTSTART;VALUE=DATE:20291119
DTEND;VALUE=DATE:20291120
DTSTAMP:20260420T070400
CREATED:20250529T222619Z
LAST-MODIFIED:20250529T222656Z
UID:10000246-1889740800-1889827199@www.eagleridgegolfnc.com
SUMMARY:Member Monday
DESCRIPTION:
URL:https://www.eagleridgegolfnc.com/event/member-monday-3/2029-11-19/
END:VEVENT
BEGIN:VEVENT
DTSTART;VALUE=DATE:20291126
DTEND;VALUE=DATE:20291127
DTSTAMP:20260420T070400
CREATED:20250529T222619Z
LAST-MODIFIED:20250529T222656Z
UID:10000247-1890345600-1890431999@www.eagleridgegolfnc.com
SUMMARY:Member Monday
DESCRIPTION:
URL:https://www.eagleridgegolfnc.com/event/member-monday-3/2029-11-26/
END:VEVENT
BEGIN:VEVENT
DTSTART;VALUE=DATE:20291203
DTEND;VALUE=DATE:20291204
DTSTAMP:20260420T070400
CREATED:20250529T222619Z
LAST-MODIFIED:20250529T222656Z
UID:10000248-1890950400-1891036799@www.eagleridgegolfnc.com
SUMMARY:Member Monday
DESCRIPTION:
URL:https://www.eagleridgegolfnc.com/event/member-monday-3/2029-12-03/
END:VEVENT
BEGIN:VEVENT
DTSTART;VALUE=DATE:20291210
DTEND;VALUE=DATE:20291211
DTSTAMP:20260420T070400
CREATED:20250529T222619Z
LAST-MODIFIED:20250529T222656Z
UID:10000249-1891555200-1891641599@www.eagleridgegolfnc.com
SUMMARY:Member Monday
DESCRIPTION:
URL:https://www.eagleridgegolfnc.com/event/member-monday-3/2029-12-10/
END:VEVENT
BEGIN:VEVENT
DTSTART;VALUE=DATE:20291217
DTEND;VALUE=DATE:20291218
DTSTAMP:20260420T070400
CREATED:20250529T222619Z
LAST-MODIFIED:20250529T222656Z
UID:10000250-1892160000-1892246399@www.eagleridgegolfnc.com
SUMMARY:Member Monday
DESCRIPTION:
URL:https://www.eagleridgegolfnc.com/event/member-monday-3/2029-12-17/
END:VEVENT
BEGIN:VEVENT
DTSTART;VALUE=DATE:20291224
DTEND;VALUE=DATE:20291225
DTSTAMP:20260420T070400
CREATED:20250529T222619Z
LAST-MODIFIED:20250529T222656Z
UID:10000251-1892764800-1892851199@www.eagleridgegolfnc.com
SUMMARY:Member Monday
DESCRIPTION:
URL:https://www.eagleridgegolfnc.com/event/member-monday-3/2029-12-24/
END:VEVENT
BEGIN:VEVENT
DTSTART;VALUE=DATE:20291231
DTEND;VALUE=DATE:20300101
DTSTAMP:20260420T070400
CREATED:20250529T222619Z
LAST-MODIFIED:20250529T222656Z
UID:10000252-1893369600-1893455999@www.eagleridgegolfnc.com
SUMMARY:Member Monday
DESCRIPTION:
URL:https://www.eagleridgegolfnc.com/event/member-monday-3/2029-12-31/
END:VEVENT
BEGIN:VEVENT
DTSTART;VALUE=DATE:20300107
DTEND;VALUE=DATE:20300108
DTSTAMP:20260420T070400
CREATED:20250529T222619Z
LAST-MODIFIED:20250529T222656Z
UID:10000253-1893974400-1894060799@www.eagleridgegolfnc.com
SUMMARY:Member Monday
DESCRIPTION:
URL:https://www.eagleridgegolfnc.com/event/member-monday-3/2030-01-07/
END:VEVENT
END:VCALENDAR