BEGIN:VCALENDAR
VERSION:2.0
PRODID:-//Eagle Ridge Golf Club - ECPv6.15.18//NONSGML v1.0//EN
CALSCALE:GREGORIAN
METHOD:PUBLISH
X-WR-CALNAME:Eagle Ridge Golf Club
X-ORIGINAL-URL:https://www.eagleridgegolfnc.com
X-WR-CALDESC:Events for Eagle Ridge Golf Club
REFRESH-INTERVAL;VALUE=DURATION:PT1H
X-Robots-Tag:noindex
X-PUBLISHED-TTL:PT1H
BEGIN:VTIMEZONE
TZID:UTC
BEGIN:STANDARD
TZOFFSETFROM:+0000
TZOFFSETTO:+0000
TZNAME:UTC
DTSTART:20280101T000000
END:STANDARD
END:VTIMEZONE
BEGIN:VEVENT
DTSTART;VALUE=DATE:20290101
DTEND;VALUE=DATE:20290102
DTSTAMP:20260420T035526
CREATED:20250529T222619Z
LAST-MODIFIED:20250529T222656Z
UID:10000200-1861920000-1862006399@www.eagleridgegolfnc.com
SUMMARY:Member Monday
DESCRIPTION:
URL:https://www.eagleridgegolfnc.com/event/member-monday-3/2029-01-01/
END:VEVENT
BEGIN:VEVENT
DTSTART;VALUE=DATE:20290108
DTEND;VALUE=DATE:20290109
DTSTAMP:20260420T035526
CREATED:20250529T222619Z
LAST-MODIFIED:20250529T222656Z
UID:10000201-1862524800-1862611199@www.eagleridgegolfnc.com
SUMMARY:Member Monday
DESCRIPTION:
URL:https://www.eagleridgegolfnc.com/event/member-monday-3/2029-01-08/
END:VEVENT
BEGIN:VEVENT
DTSTART;VALUE=DATE:20290115
DTEND;VALUE=DATE:20290116
DTSTAMP:20260420T035526
CREATED:20250529T222619Z
LAST-MODIFIED:20250529T222656Z
UID:10000202-1863129600-1863215999@www.eagleridgegolfnc.com
SUMMARY:Member Monday
DESCRIPTION:
URL:https://www.eagleridgegolfnc.com/event/member-monday-3/2029-01-15/
END:VEVENT
BEGIN:VEVENT
DTSTART;VALUE=DATE:20290122
DTEND;VALUE=DATE:20290123
DTSTAMP:20260420T035526
CREATED:20250529T222619Z
LAST-MODIFIED:20250529T222656Z
UID:10000203-1863734400-1863820799@www.eagleridgegolfnc.com
SUMMARY:Member Monday
DESCRIPTION:
URL:https://www.eagleridgegolfnc.com/event/member-monday-3/2029-01-22/
END:VEVENT
BEGIN:VEVENT
DTSTART;VALUE=DATE:20290129
DTEND;VALUE=DATE:20290130
DTSTAMP:20260420T035526
CREATED:20250529T222619Z
LAST-MODIFIED:20250529T222656Z
UID:10000204-1864339200-1864425599@www.eagleridgegolfnc.com
SUMMARY:Member Monday
DESCRIPTION:
URL:https://www.eagleridgegolfnc.com/event/member-monday-3/2029-01-29/
END:VEVENT
BEGIN:VEVENT
DTSTART;VALUE=DATE:20290205
DTEND;VALUE=DATE:20290206
DTSTAMP:20260420T035526
CREATED:20250529T222619Z
LAST-MODIFIED:20250529T222656Z
UID:10000205-1864944000-1865030399@www.eagleridgegolfnc.com
SUMMARY:Member Monday
DESCRIPTION:
URL:https://www.eagleridgegolfnc.com/event/member-monday-3/2029-02-05/
END:VEVENT
BEGIN:VEVENT
DTSTART;VALUE=DATE:20290212
DTEND;VALUE=DATE:20290213
DTSTAMP:20260420T035526
CREATED:20250529T222619Z
LAST-MODIFIED:20250529T222656Z
UID:10000206-1865548800-1865635199@www.eagleridgegolfnc.com
SUMMARY:Member Monday
DESCRIPTION:
URL:https://www.eagleridgegolfnc.com/event/member-monday-3/2029-02-12/
END:VEVENT
BEGIN:VEVENT
DTSTART;VALUE=DATE:20290219
DTEND;VALUE=DATE:20290220
DTSTAMP:20260420T035526
CREATED:20250529T222619Z
LAST-MODIFIED:20250529T222656Z
UID:10000207-1866153600-1866239999@www.eagleridgegolfnc.com
SUMMARY:Member Monday
DESCRIPTION:
URL:https://www.eagleridgegolfnc.com/event/member-monday-3/2029-02-19/
END:VEVENT
BEGIN:VEVENT
DTSTART;VALUE=DATE:20290226
DTEND;VALUE=DATE:20290227
DTSTAMP:20260420T035526
CREATED:20250529T222619Z
LAST-MODIFIED:20250529T222656Z
UID:10000208-1866758400-1866844799@www.eagleridgegolfnc.com
SUMMARY:Member Monday
DESCRIPTION:
URL:https://www.eagleridgegolfnc.com/event/member-monday-3/2029-02-26/
END:VEVENT
BEGIN:VEVENT
DTSTART;VALUE=DATE:20290305
DTEND;VALUE=DATE:20290306
DTSTAMP:20260420T035526
CREATED:20250529T222619Z
LAST-MODIFIED:20250529T222656Z
UID:10000209-1867363200-1867449599@www.eagleridgegolfnc.com
SUMMARY:Member Monday
DESCRIPTION:
URL:https://www.eagleridgegolfnc.com/event/member-monday-3/2029-03-05/
END:VEVENT
BEGIN:VEVENT
DTSTART;VALUE=DATE:20290312
DTEND;VALUE=DATE:20290313
DTSTAMP:20260420T035526
CREATED:20250529T222619Z
LAST-MODIFIED:20250529T222656Z
UID:10000210-1867968000-1868054399@www.eagleridgegolfnc.com
SUMMARY:Member Monday
DESCRIPTION:
URL:https://www.eagleridgegolfnc.com/event/member-monday-3/2029-03-12/
END:VEVENT
BEGIN:VEVENT
DTSTART;VALUE=DATE:20290319
DTEND;VALUE=DATE:20290320
DTSTAMP:20260420T035526
CREATED:20250529T222619Z
LAST-MODIFIED:20250529T222656Z
UID:10000211-1868572800-1868659199@www.eagleridgegolfnc.com
SUMMARY:Member Monday
DESCRIPTION:
URL:https://www.eagleridgegolfnc.com/event/member-monday-3/2029-03-19/
END:VEVENT
BEGIN:VEVENT
DTSTART;VALUE=DATE:20290326
DTEND;VALUE=DATE:20290327
DTSTAMP:20260420T035526
CREATED:20250529T222619Z
LAST-MODIFIED:20250529T222656Z
UID:10000212-1869177600-1869263999@www.eagleridgegolfnc.com
SUMMARY:Member Monday
DESCRIPTION:
URL:https://www.eagleridgegolfnc.com/event/member-monday-3/2029-03-26/
END:VEVENT
BEGIN:VEVENT
DTSTART;VALUE=DATE:20290402
DTEND;VALUE=DATE:20290403
DTSTAMP:20260420T035526
CREATED:20250529T222619Z
LAST-MODIFIED:20250529T222656Z
UID:10000213-1869782400-1869868799@www.eagleridgegolfnc.com
SUMMARY:Member Monday
DESCRIPTION:
URL:https://www.eagleridgegolfnc.com/event/member-monday-3/2029-04-02/
END:VEVENT
BEGIN:VEVENT
DTSTART;VALUE=DATE:20290409
DTEND;VALUE=DATE:20290410
DTSTAMP:20260420T035526
CREATED:20250529T222619Z
LAST-MODIFIED:20250529T222656Z
UID:10000214-1870387200-1870473599@www.eagleridgegolfnc.com
SUMMARY:Member Monday
DESCRIPTION:
URL:https://www.eagleridgegolfnc.com/event/member-monday-3/2029-04-09/
END:VEVENT
BEGIN:VEVENT
DTSTART;VALUE=DATE:20290416
DTEND;VALUE=DATE:20290417
DTSTAMP:20260420T035526
CREATED:20250529T222619Z
LAST-MODIFIED:20250529T222656Z
UID:10000215-1870992000-1871078399@www.eagleridgegolfnc.com
SUMMARY:Member Monday
DESCRIPTION:
URL:https://www.eagleridgegolfnc.com/event/member-monday-3/2029-04-16/
END:VEVENT
BEGIN:VEVENT
DTSTART;VALUE=DATE:20290423
DTEND;VALUE=DATE:20290424
DTSTAMP:20260420T035526
CREATED:20250529T222619Z
LAST-MODIFIED:20250529T222656Z
UID:10000216-1871596800-1871683199@www.eagleridgegolfnc.com
SUMMARY:Member Monday
DESCRIPTION:
URL:https://www.eagleridgegolfnc.com/event/member-monday-3/2029-04-23/
END:VEVENT
BEGIN:VEVENT
DTSTART;VALUE=DATE:20290430
DTEND;VALUE=DATE:20290501
DTSTAMP:20260420T035526
CREATED:20250529T222619Z
LAST-MODIFIED:20250529T222656Z
UID:10000217-1872201600-1872287999@www.eagleridgegolfnc.com
SUMMARY:Member Monday
DESCRIPTION:
URL:https://www.eagleridgegolfnc.com/event/member-monday-3/2029-04-30/
END:VEVENT
BEGIN:VEVENT
DTSTART;VALUE=DATE:20290507
DTEND;VALUE=DATE:20290508
DTSTAMP:20260420T035526
CREATED:20250529T222619Z
LAST-MODIFIED:20250529T222656Z
UID:10000218-1872806400-1872892799@www.eagleridgegolfnc.com
SUMMARY:Member Monday
DESCRIPTION:
URL:https://www.eagleridgegolfnc.com/event/member-monday-3/2029-05-07/
END:VEVENT
BEGIN:VEVENT
DTSTART;VALUE=DATE:20290514
DTEND;VALUE=DATE:20290515
DTSTAMP:20260420T035526
CREATED:20250529T222619Z
LAST-MODIFIED:20250529T222656Z
UID:10000219-1873411200-1873497599@www.eagleridgegolfnc.com
SUMMARY:Member Monday
DESCRIPTION:
URL:https://www.eagleridgegolfnc.com/event/member-monday-3/2029-05-14/
END:VEVENT
BEGIN:VEVENT
DTSTART;VALUE=DATE:20290521
DTEND;VALUE=DATE:20290522
DTSTAMP:20260420T035526
CREATED:20250529T222619Z
LAST-MODIFIED:20250529T222656Z
UID:10000220-1874016000-1874102399@www.eagleridgegolfnc.com
SUMMARY:Member Monday
DESCRIPTION:
URL:https://www.eagleridgegolfnc.com/event/member-monday-3/2029-05-21/
END:VEVENT
BEGIN:VEVENT
DTSTART;VALUE=DATE:20290528
DTEND;VALUE=DATE:20290529
DTSTAMP:20260420T035526
CREATED:20250529T222619Z
LAST-MODIFIED:20250529T222656Z
UID:10000221-1874620800-1874707199@www.eagleridgegolfnc.com
SUMMARY:Member Monday
DESCRIPTION:
URL:https://www.eagleridgegolfnc.com/event/member-monday-3/2029-05-28/
END:VEVENT
BEGIN:VEVENT
DTSTART;VALUE=DATE:20290604
DTEND;VALUE=DATE:20290605
DTSTAMP:20260420T035526
CREATED:20250529T222619Z
LAST-MODIFIED:20250529T222656Z
UID:10000222-1875225600-1875311999@www.eagleridgegolfnc.com
SUMMARY:Member Monday
DESCRIPTION:
URL:https://www.eagleridgegolfnc.com/event/member-monday-3/2029-06-04/
END:VEVENT
BEGIN:VEVENT
DTSTART;VALUE=DATE:20290611
DTEND;VALUE=DATE:20290612
DTSTAMP:20260420T035526
CREATED:20250529T222619Z
LAST-MODIFIED:20250529T222656Z
UID:10000223-1875830400-1875916799@www.eagleridgegolfnc.com
SUMMARY:Member Monday
DESCRIPTION:
URL:https://www.eagleridgegolfnc.com/event/member-monday-3/2029-06-11/
END:VEVENT
BEGIN:VEVENT
DTSTART;VALUE=DATE:20290618
DTEND;VALUE=DATE:20290619
DTSTAMP:20260420T035526
CREATED:20250529T222619Z
LAST-MODIFIED:20250529T222656Z
UID:10000224-1876435200-1876521599@www.eagleridgegolfnc.com
SUMMARY:Member Monday
DESCRIPTION:
URL:https://www.eagleridgegolfnc.com/event/member-monday-3/2029-06-18/
END:VEVENT
BEGIN:VEVENT
DTSTART;VALUE=DATE:20290625
DTEND;VALUE=DATE:20290626
DTSTAMP:20260420T035526
CREATED:20250529T222619Z
LAST-MODIFIED:20250529T222656Z
UID:10000225-1877040000-1877126399@www.eagleridgegolfnc.com
SUMMARY:Member Monday
DESCRIPTION:
URL:https://www.eagleridgegolfnc.com/event/member-monday-3/2029-06-25/
END:VEVENT
BEGIN:VEVENT
DTSTART;VALUE=DATE:20290702
DTEND;VALUE=DATE:20290703
DTSTAMP:20260420T035526
CREATED:20250529T222619Z
LAST-MODIFIED:20250529T222656Z
UID:10000226-1877644800-1877731199@www.eagleridgegolfnc.com
SUMMARY:Member Monday
DESCRIPTION:
URL:https://www.eagleridgegolfnc.com/event/member-monday-3/2029-07-02/
END:VEVENT
BEGIN:VEVENT
DTSTART;VALUE=DATE:20290709
DTEND;VALUE=DATE:20290710
DTSTAMP:20260420T035526
CREATED:20250529T222619Z
LAST-MODIFIED:20250529T222656Z
UID:10000227-1878249600-1878335999@www.eagleridgegolfnc.com
SUMMARY:Member Monday
DESCRIPTION:
URL:https://www.eagleridgegolfnc.com/event/member-monday-3/2029-07-09/
END:VEVENT
BEGIN:VEVENT
DTSTART;VALUE=DATE:20290716
DTEND;VALUE=DATE:20290717
DTSTAMP:20260420T035526
CREATED:20250529T222619Z
LAST-MODIFIED:20250529T222656Z
UID:10000228-1878854400-1878940799@www.eagleridgegolfnc.com
SUMMARY:Member Monday
DESCRIPTION:
URL:https://www.eagleridgegolfnc.com/event/member-monday-3/2029-07-16/
END:VEVENT
BEGIN:VEVENT
DTSTART;VALUE=DATE:20290723
DTEND;VALUE=DATE:20290724
DTSTAMP:20260420T035526
CREATED:20250529T222619Z
LAST-MODIFIED:20250529T222656Z
UID:10000229-1879459200-1879545599@www.eagleridgegolfnc.com
SUMMARY:Member Monday
DESCRIPTION:
URL:https://www.eagleridgegolfnc.com/event/member-monday-3/2029-07-23/
END:VEVENT
END:VCALENDAR